{"text_format":"1","workbook":"xlsx","n_sheets":2,"sheets":["Funkce","Data"],"not_rendered":{"charts":1,"images":0,"macros":0,"external_links":0,"defined_names":5,"comments":0,"pivot_tables":0},"unopened":[],"bounds":{"document_bytes":16777216,"sheet_cells":100000,"rows_first":2000,"rows_last":500,"rows_between":2000,"halvings":0,"cell_chars":16384,"cell_head_chars":4096},"cells_cut":0,"cells_raw":0,"read":"whole","date_system":"1900"}

{"sheet":"Funkce","index":0,"n_rows":5,"n_cols":2,"rows_kept":5,"cut":false,"hidden":false,"merged":[]}
["Funkce","sin(x)/x"]
["Min x",-20]
["Max x",20]
["Počet bodů",500]
["Krok",{"$f":"($B$3-$B$2)/$B$4","v":0.08}]

{"sheet":"Data","index":1,"n_rows":600,"n_cols":7,"rows_kept":600,"cut":false,"hidden":false,"merged":[]}
["x","f(x)","∆x","∆y","f'(x)","P","I(x)"]
[{"$f":"Funkce!$B$2","v":-20},{"$f":"fce","v":4.5647262536381385E-2},{"$f":"A3-A2","v":7.9999999999998295E-2},{"$f":"B3-B2","v":-1.600393530254561E-3},{"$f":"D2/C2","v":-2.000491912818244E-2},{"$f":"0.5*C2*(B2+B3)","v":3.5877652617002523E-3},{"$f":"F2","v":3.5877652617002523E-3}]
[{"$f":"A2+Funkce!$B$5","v":-19.920000000000002},{"$f":"fce","v":4.4046869006126824E-2},{"$f":"A4-A3","v":7.9999999999998295E-2},{"$f":"B4-B3","v":-1.8961856640420036E-3},{"$f":"D3/C3","v":-2.3702320800525551E-2},{"$f":"0.5*C3*(B3+B4)","v":3.4479020939283921E-3},{"$f":"F3+G2","v":7.0356673556286444E-3}]
[{"$f":"A3+Funkce!$B$5","v":-19.840000000000003},{"$f":"fce","v":4.215068334208482E-2},7.9999999999998295E-2,-2.1822515049537694E-3,-2.72781438119227E-2,3.2847646071685649E-3,{"$f":"F4+G3","v":1.032043196279721E-2}]
[{"$f":"A4+Funkce!$B$5","v":-19.760000000000005},{"$f":"fce","v":3.9968431837131051E-2},7.9999999999998295E-2,-2.4566942290494692E-3,-3.0708677863119021E-2,3.0992067778084394E-3,1.3419638740605649E-2]
[{"$f":"A5+Funkce!$B$5","v":-19.680000000000007},{"$f":"fce","v":3.7511737608081581E-2},7.9999999999998295E-2,-2.7176753597073153E-3,-3.3970941996342166E-2,2.8922319942581726E-3,1.6311870734863822E-2]
[{"$f":"A6+Funkce!$B$5","v":-19.600000000000009},{"$f":"fce","v":3.4794062248374266E-2},7.9999999999998295E-2,-2.9634267917446819E-3,-3.7042834896809311E-2,2.6649879082000969E-3,1.8976858643063917E-2]
[{"$f":"A7+Funkce!$B$5","v":-19.52000000000001},{"$f":"fce","v":3.1830635456629584E-2},7.9999999999998295E-2,-3.1922624679445247E-3,-3.9903280849307408E-2,2.4187603378125343E-3,2.1395618980876451E-2]
[{"$f":"A8+Funkce!$B$5","v":-19.440000000000012},{"$f":"fce","v":2.863837298868506E-2},7.9999999999998295E-2,-3.4025896326665694E-3,-4.2532370408333027E-2,2.1549662537880959E-3,2.3550585234664547E-2]
[{"$f":"A9+Funkce!$B$5","v":-19.360000000000014},{"$f":"fce","v":2.523578335601849E-2},7.9999999999998295E-2,-3.5929195892790526E-3,-4.4911494865989117E-2,1.8751458849102769E-3,2.5425731119574822E-2]
[{"$f":"A10+Funkce!$B$5","v":-19.280000000000015},{"$f":"fce","v":2.1642863766739438E-2},7.9999999999998295E-2,-3.7618778907032198E-3,-4.7023473633791252E-2,1.5809539857109924E-3,2.7006685105285814E-2]
[{"$f":"A11+Funkce!$B$5","v":-19.200000000000017},{"$f":"fce","v":1.7880985876036218E-2},7.9999999999998295E-2,-3.9082138953387812E-3,-4.8852673691735807E-2,1.2741503142693191E-3,2.8280835419555134E-2]
[{"$f":"A12+Funkce!$B$5","v":-19.120000000000019},{"$f":"fce","v":1.3972771980697437E-2},7.9999999999998295E-2,-4.0308096240899705E-3,-5.0385120301125706E-2,9.5658937349217576E-4,2.923742479304731E-2]
[{"$f":"A13+Funkce!$B$5","v":-19.04000000000002},{"$f":"fce","v":9.9419623566074661E-3},7.9999999999998295E-2,-4.1286878580453715E-3,-5.1608598225568243E-2,6.3020947420676897E-4,2.9867634267254077E-2]
[{"$f":"A14+Funkce!$B$5","v":-18.960000000000022},{"$f":"fce","v":5.8132744985620946E-3},7.9999999999998295E-2,-4.2010194206392034E-3,-5.2512742757991164E-2,2.9702118305939313E-4,3.0164655450313469E-2]
[{"$f":"A15+Funkce!$B$5","v":-18.880000000000024},{"$f":"fce","v":1.6122550779228914E-3},7.9999999999998295E-2,-4.2471295927296688E-3,-5.308911990912199E-2,-4.0904777475354577E-5,3.0123750672838113E-2]
[{"$f":"A16+Funkce!$B$5","v":-18.800000000000026},{"$f":"fce","v":-2.6348745148067777E-3},7.9999999999998295E-2,-4.2665036140334253E-3,-5.3331295175418951E-2,-3.8145010574587113E-4,2.9742300567092241E-2]
[{"$f":"A17+Funkce!$B$5","v":-18.720000000000027},{"$f":"fce","v":-6.9013781288402029E-3},7.9999999999998295E-2,-4.258791229635117E-3,-5.3234890370440095E-2,-7.2246189949260549E-4,2.9019838667599634E-2]
[{"$f":"A18+Funkce!$B$5","v":-18.640000000000029},{"$f":"fce","v":-1.116016935847532E-2},7.9999999999998295E-2,-4.2238102459099831E-3,-5.2797628073875912E-2,-1.0617659585144023E-3,2.7958072709085232E-2]
[{"$f":"A19+Funkce!$B$5","v":-18.560000000000031},{"$f":"fce","v":-1.5383979604385303E-2},7.9999999999998295E-2,-4.1615490660287888E-3,-5.2019363325360966E-2,-1.3971803309919461E-3,2.6560892378093285E-2]
[{"$f":"A20+Funkce!$B$5","v":-18.480000000000032},{"$f":"fce","v":-1.9545528670414092E-2},7.9999999999998295E-2,-4.0721681813194292E-3,-5.090210226649395E-2,-1.7265290208858678E-3,2.4834363357207418E-2]
[{"$f":"A21+Funkce!$B$5","v":-18.400000000000034},{"$f":"fce","v":-2.3617696851733521E-2},7.9999999999998295E-2,-3.9560006010064402E-3,-4.9450007512581558E-2,-2.0476557721788957E-3,2.2786707585028522E-2]
[{"$f":"A22+Funkce!$B$5","v":-18.320000000000036},{"$f":"fce","v":-2.7573697452739961E-2},7.9999999999998295E-2,-3.8135512092975811E-3,-4.7669390116220782E-2,-2.35843784459105E-3,2.0428269740437471E-2]
[{"$f":"A23+Funkce!$B$5","v":-18.240000000000038},{"$f":"fce","v":-3.1387248662037542E-2},7.9999999999998295E-2,-3.6454950453013377E-3,-4.5568688066267689E-2,-2.6567996947750006E-3,1.7771470045662471E-2]
[{"$f":"A24+Funkce!$B$5","v":-18.160000000000039},{"$f":"fce","v":-3.503274370733888E-2},7.9999999999998295E-2,-3.4526745078965818E-3,-4.3158431348708191E-2,-2.9407264769029111E-3,1.4830743568759561E-2]
[{"$f":"A25+Funkce!$B$5","v":-18.080000000000041},{"$f":"fce","v":-3.8485418215235462E-2},7.9999999999998295E-2,-3.2360954943020936E-3,-4.0451193678777031E-2,-3.2082772769908524E-3,1.1622466291768708E-2]
[{"$f":"A26+Funkce!$B$5","v":-18.000000000000043},{"$f":"fce","v":-4.1721513709537555E-2},7.9999999999998295E-2,-2.9969224877598247E-3,-3.746153109699861E-2,-3.4575979962733236E-3,8.1648682954953838E-3]
[{"$f":"A27+Funkce!$B$5","v":-17.920000000000044},{"$f":"fce","v":-4.471843619729738E-2},7.9999999999998295E-2,-2.736472616324398E-3,-3.4205907704055703E-2,-3.6869338004366877E-3,4.4779344950586965E-3]
[{"$f":"A28+Funkce!$B$5","v":-17.840000000000046},{"$f":"fce","v":-4.7454908813621778E-2},7.9999999999998295E-2,-2.4562087112790232E-3,-3.0702608890988446E-2,-3.8946410535408201E-3,5.8329344151787643E-4]
[{"$f":"A29+Funkce!$B$5","v":-17.760000000000048},{"$f":"fce","v":-4.9911117524900801E-2},7.9999999999998295E-2,-2.1577314000760101E-3,-2.6971642500950702E-2,-4.0791986579950179E-3,-3.4959052164771414E-3]
[{"$f":"A30+Funkce!$B$5","v":-17.680000000000049},{"$f":"fce","v":-5.2068848924976811E-2},7.9999999999998295E-2,-1.8427702749145014E-3,-2.303462843643176E-2,-4.239218724994635E-3,-7.7351239414717764E-3]
[{"$f":"A31+Funkce!$B$5","v":-17.600000000000051},{"$f":"fce","v":-5.3911619199891313E-2},7.9999999999998295E-2,-1.5131741841074367E-3,-1.8914677301343361E-2,-4.3734565033555096E-3,-1.2108580444827287E-2]
[{"$f":"A32+Funkce!$B$5","v":-17.520000000000053},{"$f":"fce","v":-5.5424793383998749E-2},7.9999999999998295E-2,-1.1709006990849938E-3,-1.4636258738562734E-2,-4.4808194986832037E-3,-1.658939994351049E-2]
[{"$f":"A33+Funkce!$B$5","v":-17.440000000000055},{"$f":"fce","v":-5.6595694083083743E-2},7.9999999999998295E-2,-8.1800481550711734E-4,-1.0225060193839185E-2,-4.5603757192668867E-3,-2.1149775662777377E-2]
[{"$f":"A34+Funkce!$B$5","v":-17.360000000000056},{"$f":"fce","v":-5.7413698898590861E-2},7.9999999999998295E-2,-4.5662695195849978E-4,-5.7078368994813687E-3,-4.6113609899655107E-3,-2.5761136652742888E-2]
[{"$f":"A35+Funkce!$B$5","v":-17.280000000000058},{"$f":"fce","v":-5.787032585054936E-2},7.9999999999998295E-2,-8.8980314659835302E-5,-1.1122539332479649E-3,-4.6331852806302436E-3,-3.0394321933373131E-2]
[{"$f":"A36+Funkce!$B$5","v":-17.20000000000006},{"$f":"fce","v":-5.7959306165209196E-2},7.9999999999998295E-2,2.8266229900445611E-4,3.5332787375557768E-3,-4.6254380012564593E-3,-3.5019759934629593E-2]
[{"$f":"A37+Funkce!$B$5","v":-17.120000000000061},{"$f":"fce","v":-5.767664386620474E-2},7.9999999999998295E-2,6.5598218129143959E-4,8.1997772661431701E-3,-4.5878922220446237E-3,-3.9607652156674215E-2]
[{"$f":"A38+Funkce!$B$5","v":-17.040000000000063},{"$f":"fce","v":-5.70206616849133E-2},7.9999999999998295E-2,1.0286287988035964E-3,1.2857859985045229E-2,-4.5205077828408234E-3,-4.4128159939515035E-2]
[{"$f":"A39+Funkce!$B$5","v":-16.960000000000065},{"$f":"fce","v":-5.5992032886109704E-2},7.9999999999998295E-2,1.3982341975338486E-3,1.7477927469173479E-2,-4.4234332629873281E-3,-4.8551593202502366E-2]
[{"$f":"A40+Funkce!$B$5","v":-16.880000000000067},{"$f":"fce","v":-5.4593798688575855E-2},7.9999999999998295E-2,1.7624276420553087E-3,2.2030345525691827E-2,-4.2970067894037645E-3,-5.284859999190613E-2]
[{"$f":"A41+Funkce!$B$5","v":-16.800000000000068},{"$f":"fce","v":-5.2831371046520546E-2},7.9999999999998295E-2,2.1188504005328068E-3,2.6485630006660651E-2,-4.1417556677002428E-3,-5.6990355659606376E-2]
[{"$f":"A42+Funkce!$B$5","v":-16.72000000000007},{"$f":"fce","v":-5.071252064598774E-2},7.9999999999998295E-2,2.4651705856196734E-3,3.0814632320246574E-2,-3.9583948282541481E-3,-6.0948750487860526E-2]
[{"$f":"A43+Funkce!$B$5","v":-16.640000000000072},{"$f":"fce","v":-4.8247350060368066E-2},7.9999999999998295E-2,2.799097960240006E-3,3.498872450300082E-2,-3.7478240864197653E-3,-6.4696574574280297E-2]
[{"$f":"A44+Funkce!$B$5","v":-16.560000000000073},{"$f":"fce","v":-4.544825210012806E-2},7.9999999999998295E-2,3.1183986167230698E-3,3.8979982709039206E-2,-3.511124223341247E-3,-6.8207698797621549E-2]
[{"$f":"A45+Funkce!$B$5","v":-16.480000000000075},{"$f":"fce","v":-4.232985348340499E-2},7.9999999999998295E-2,3.4209094377938426E-3,4.2761367972423941E-2,-3.2495519011605761E-3,-7.1457250698782129E-2]
[{"$f":"A46+Funkce!$B$5","v":-16.400000000000077},{"$f":"fce","v":-3.8908944045611148E-2},7.9999999999998295E-2,3.7045522485089077E-3,4.6306903106362332E-2,-2.9645334337084724E-3,-7.4421784132490607E-2]
[{"$f":"A47+Funkce!$B$5","v":-16.320000000000078},{"$f":"fce","v":-3.520439179710224E-2},7.9999999999998295E-2,3.9673475693667269E-3,4.9591844617085143E-2,-2.6576574409934535E-3,-7.7079441573484064E-2]
[{"$f":"A48+Funkce!$B$5","v":-16.24000000000008},{"$f":"fce","v":-3.1237044227735513E-2},7.9999999999998295E-2,4.2074278825359711E-3,5.2592848531700757E-2,-2.3306664229173525E-3,-7.9410107996401413E-2]
[{"$f":"A49+Funkce!$B$5","v":-16.160000000000082},{"$f":"fce","v":-2.7029616345199542E-2},7.9999999999998295E-2,4.4230503253778509E-3,5.5288129067224315E-2,-1.9854472946008073E-3,-8.1395555291002217E-2]
[{"$f":"A50+Funkce!$B$5","v":-16.080000000000084},{"$f":"fce","v":-2.2606566019821691E-2},7.9999999999998295E-2,4.6126087282492671E-3,5.7657609103117069E-2,-1.6240209324557301E-3,-8.3019576223457944E-2]
[{"$f":"A51+Funkce!$B$5","v":-16.000000000000085},{"$f":"fce","v":-1.7993957291572424E-2},8.0000000000000071E-2,4.7746449168678973E-3,5.968306146084866E-2,-1.2485307866510792E-3,-8.426810701010902E-2]
[{"$f":"A52+Funkce!$B$5","v":-15.920000000000085},{"$f":"fce","v":-1.3219312374704527E-2},8.0000000000000071E-2,4.9078592033705293E-3,6.134824004213156E-2,-8.6123062184154174E-4,-8.5129337631950561E-2]
[{"$f":"A53+Funkce!$B$5","v":-15.840000000000085},{"$f":"fce","v":-8.3114531713339972E-3},8.0000000000000071E-2,5.0111199944930986E-3,6.2638999931163675E-2,-4.6447145392699624E-4,-8.5593809085877562E-2]
[{"$f":"A54+Funkce!$B$5","v":-15.760000000000085},{"$f":"fce","v":-3.3003331768408986E-3},8.0000000000000071E-2,5.0834724501037723E-3,6.3543405626297095E-2,-6.0687756143121041E-5,-8.5654496842020686E-2]
[{"$f":"A55+Funkce!$B$5","v":-15.680000000000085},{"$f":"fce","v":1.7831392732628739E-3},8.0000000000000071E-2,5.1241461305412597E-3,6.4051826631765688E-2,3.4761698708268059E-4,-8.5306879854938011E-2]
[{"$f":"A56+Funkce!$B$5","v":-15.600000000000085},{"$f":"fce","v":6.9072854038041333E-3},8.0000000000000071E-2,5.1325615768587438E-3,6.4157019710734245E-2,7.5788529537868118E-4,-8.4548994559559332E-2]
[{"$f":"A57+Funkce!$B$5","v":-15.520000000000085},{"$f":"fce","v":1.2039846980662877E-2},8.0000000000000071E-2,5.1083357741025549E-3,6.3854197176281879E-2,1.1675211894171334E-3,-8.3381473370142192E-2]
[{"$f":"A58+Funkce!$B$5","v":-15.440000000000085},{"$f":"fce","v":1.7148182754765432E-2},8.0000000000000071E-2,5.0512864541303187E-3,6.3141080676628922E-2,1.5739060785464488E-3,-8.1807567291595745E-2]
[{"$f":"A59+Funkce!$B$5","v":-15.360000000000085},{"$f":"fce","v":2.2199469208895751E-2},8.0000000000000071E-2,4.9614352011730159E-3,6.2017940014662647E-2,1.9744149447585824E-3,-7.9833152346837161E-2]
[{"$f":"A60+Funkce!$B$5","v":-15.280000000000085},{"$f":"fce","v":2.7160904410068767E-2},8.0000000000000071E-2,4.8390093303067629E-3,6.0487616628834485E-2,2.366432726017774E-3,-7.7466719620819385E-2]
[{"$f":"A61+Funkce!$B$5","v":-15.200000000000085},{"$f":"fce","v":3.199991374037553E-2},8.0000000000000071E-2,4.6844425162127779E-3,5.8555531452659675E-2,2.747370799878556E-3,-7.4719348820940834E-2]
[{"$f":"A62+Funkce!$B$5","v":-15.120000000000084},{"$f":"fce","v":3.6684356256588307E-2},8.0000000000000071E-2,4.4983741570012656E-3,5.6229676962515768E-2,3.1146834668071182E-3,-7.160466535413372E-2]
[{"$f":"A63+Funkce!$B$5","v":-15.040000000000084},{"$f":"fce","v":4.1182730413589573E-2},8.0000000000000071E-2,4.2816474654283412E-3,5.352059331785422E-2,3.4658843317043027E-3,-6.8138781022429415E-2]
[{"$f":"A64+Funkce!$B$5","v":-14.960000000000084},{"$f":"fce","v":4.5464377879017914E-2},8.0000000000000071E-2,4.0353062874950649E-3,5.0441328593688266E-2,3.7985624818212393E-3,-6.4340218540608174E-2]
[{"$f":"A65+Funkce!$B$5","v":-14.880000000000084},{"$f":"fce","v":4.9499684166512979E-2},8.0000000000000071E-2,3.7605906561390262E-3,4.7007383201737786E-2,4.1103983595666034E-3,-6.0229820181041574E-2]
[{"$f":"A66+Funkce!$B$5","v":-14.800000000000084},{"$f":"fce","v":5.3260274822652005E-2},{"$f":"A68-A67","v":8.0000000000000071E-2},{"$f":"B68-B67","v":3.4589310954675073E-3},{"$f":"D67/C67","v":4.32366386933438E-2},{"$f":"0.5*C67*(B67+B68)","v":4.3991792296308643E-3},-5.5830640951410708E-2]
[{"$f":"A67+Funkce!$B$5","v":-14.720000000000084},{"$f":"fce","v":5.6719205918119513E-2},8.0000000000000071E-2,3.1319416986885992E-3,3.9149271233607452E-2,4.6628141413971088E-3,{"$f":"F68+G67","v":-5.1167826810013597E-2}]
[{"$f":"A68+Funkce!$B$5","v":-14.640000000000084},{"$f":"fce","v":5.9851147616808112E-2},8.0000000000000071E-2,2.781412010528006E-3,3.4767650131600047E-2,4.8993482897657734E-3,-4.6268478520247826E-2]
[{"$f":"A69+Funkce!$B$5","v":-14.560000000000084},{"$f":"fce","v":6.2632559627336118E-2},8.0000000000000071E-2,2.4092977524271114E-3,3.0116221905338865E-2,5.1069766802839794E-3,-4.1161501839963845E-2]
[{"$f":"A70+Funkce!$B$5","v":-14.480000000000084},{"$f":"fce","v":6.5041857379763229E-2},8.0000000000000071E-2,2.0177104361565612E-3,2.5221380451956994E-2,5.2840570078273256E-3,-3.5877444832136521E-2]
[{"$f":"A71+Funkce!$B$5","v":-14.400000000000084},{"$f":"fce","v":6.7059567815919791E-2},8.0000000000000071E-2,1.6089059186046722E-3,2.0111323982558386E-2,5.4291216620177751E-3,-3.0448323170118745E-2]
[{"$f":"A72+Funkce!$B$5","v":-14.320000000000084},{"$f":"fce","v":6.8668473734524463E-2},8.0000000000000071E-2,1.1852719573649112E-3,1.4815899467061376E-2,5.5408887770565587E-3,-2.4907434393062186E-2]
[{"$f":"A73+Funkce!$B$5","v":-14.240000000000084},{"$f":"fce","v":6.9853745691889374E-2},8.0000000000000071E-2,7.4931483331146242E-4,9.3664354163932716E-3,5.6182722486836142E-3,-1.928916214437857E-2]
[{"$f":"A74+Funkce!$B$5","v":-14.160000000000084},{"$f":"fce","v":7.0603060525200836E-2},8.0000000000000071E-2,3.0364511257233162E-4,3.7955639071541418E-3,5.6603906465189655E-3,-1.3628771497859606E-2]
[{"$f":"A75+Funkce!$B$5","v":-14.080000000000084},{"$f":"fce","v":7.0906705637773168E-2},8.0000000000000071E-2,-1.4903737385339733E-4,-1.8629671731674648E-3,5.666574956067723E-3,-7.9621965417918834E-3]
[{"$f":"A76+Funkce!$B$5","v":-14.000000000000083},{"$f":"fce","v":7.0757668263919771E-2},8.0000000000000071E-2,-6.0595924917035415E-4,-7.57449061462942E-3,5.6363750911467732E-3,-2.3258214506451103E-3]
[{"$f":"A77+Funkce!$B$5","v":-13.920000000000083},{"$f":"fce","v":7.0151709014749417E-2},8.0000000000000071E-2,-1.0642899199308081E-3,-1.3303623999135089E-2,5.5695651243827258E-3,3.2437436737376155E-3]
[{"$f":"A78+Funkce!$B$5","v":-13.840000000000083},{"$f":"fce","v":6.9087419094818608E-2},8.0000000000000071E-2,-1.5211584221538482E-3,-1.9014480276923085E-2,5.4661471906993402E-3,8.7098908644369557E-3]
[{"$f":"A79+Funkce!$B$5","v":-13.760000000000083},{"$f":"fce","v":6.756626067266476E-2},8.0000000000000071E-2,-1.9736706873763887E-3,-2.4670883592204838E-2,5.3263540263181301E-3,1.4036244890755086E-2]
[{"$f":"A80+Funkce!$B$5","v":-13.680000000000083},{"$f":"fce","v":6.5592589985288371E-2},8.0000000000000071E-2,-2.4189271281898073E-3,-3.0236589102372563E-2,5.1506501136954824E-3,1.9186895004450567E-2]
[{"$f":"A81+Funkce!$B$5","v":-13.600000000000083},{"$f":"fce","v":6.3173662857098564E-2},8.0000000000000071E-2,-2.8540404399857375E-3,-3.5675505499821687E-2,4.9397314109684599E-3,2.4126626415419027E-2]
[{"$f":"A82+Funkce!$B$5","v":-13.520000000000083},{"$f":"fce","v":6.0319622417112827E-2},8.0000000000000071E-2,-3.2761535133981265E-3,-4.0951918917476543E-2,4.6945236528331052E-3,2.8821150068252133E-2]
[{"$f":"A83+Funkce!$B$5","v":-13.440000000000083},{"$f":"fce","v":5.70434689037147E-2},8.0000000000000071E-2,-3.6824573503011979E-3,-4.6030716878764935E-2,4.4161792182851314E-3,3.3237329286537262E-2]
[{"$f":"A84+Funkce!$B$5","v":-13.360000000000083},{"$f":"fce","v":5.3361011553413502E-2},8.0000000000000071E-2,-4.0702088752265358E-3,-5.087761094033165E-2,4.1060725692640227E-3,3.7343401855801282E-2]
[{"$f":"A85+Funkce!$B$5","v":-13.280000000000083},{"$f":"fce","v":4.9290802678186967E-2},8.0000000000000071E-2,-4.4367485336945303E-3,-5.5459356671181577E-2,3.7657942729071793E-3,4.1109196128708461E-2]
[{"$f":"A86+Funkce!$B$5","v":-13.200000000000083},{"$f":"fce","v":4.4854054144492436E-2},8.0000000000000071E-2,-4.7795175692387365E-3,-5.9743969615484151E-2,3.3971436287898484E-3,4.4506339757498306E-2]
[{"$f":"A87+Funkce!$B$5","v":-13.120000000000083},{"$f":"fce","v":4.00745365752537E-2},8.0000000000000071E-2,-5.0960748718265544E-3,-6.3700935897831878E-2,3.0021199311472363E-3,4.7508459688645539E-2]
[{"$f":"A88+Funkce!$B$5","v":-13.040000000000083},{"$f":"fce","v":3.4978461703427145E-2},8.0000000000000071E-2,-5.3841132919534677E-3,-6.7301416149418286E-2,2.5829124045960352E-3,5.0091372093241576E-2]
[{"$f":"A89+Funkce!$B$5","v":-12.960000000000083},{"$f":"fce","v":2.9594348411473678E-2},8.0000000000000071E-2,-5.6414753169020185E-3,-7.0518441461275172E-2,2.1418888602418155E-3,5.2233260953483393E-2]
[{"$f":"A90+Funkce!$B$5","v":-12.880000000000082},{"$f":"fce","v":2.3952873094571659E-2},8.0000000000000071E-2,-5.8661680085065095E-3,-7.3327100106331297E-2,1.6815831272254736E-3,5.3914844080708867E-2]
[{"$f":"A91+Funkce!$B$5","v":-12.800000000000082},{"$f":"fce","v":1.808670508606515E-2},8.0000000000000071E-2,-6.0563771052336707E-3,-7.5704713815420821E-2,1.2046813226758663E-3,5.5119525403384731E-2]
[{"$f":"A92+Funkce!$B$5","v":-12.720000000000082},{"$f":"fce","v":1.2030327980831479E-2},8.0000000000000071E-2,-6.2104801954670566E-3,-7.7631002443338135E-2,7.1400703064783671E-4,5.5833532434032565E-2]
[{"$f":"A93+Funkce!$B$5","v":-12.640000000000082},{"$f":"fce","v":5.8198477853644223E-3},8.0000000000000071E-2,-6.3270588735453628E-3,-7.9088235919316963E-2,2.1250546788733945E-4,5.6046037901919907E-2]
[{"$f":"A94+Funkce!$B$5","v":-12.560000000000082},{"$f":"fce","v":-5.0721108818094034E-4},8.0000000000000071E-2,-6.4049097953322058E-3,-8.0061372441652498E-2,-2.9677327886776375E-4,5.5749264623052144E-2]
[{"$f":"A95+Funkce!$B$5","v":-12.480000000000082},{"$f":"fce","v":-6.9121208835131462E-3},8.0000000000000071E-2,-6.443054555858624E-3,-8.0538181948232729E-2,-8.1069185291539737E-4,5.4938572770136744E-2]
[{"$f":"A96+Funkce!$B$5","v":-12.400000000000082},{"$f":"fce","v":-1.335517543937177E-2},8.0000000000000071E-2,-6.4407483178509587E-3,-8.050935397313691E-2,-1.3260439678637811E-3,5.3612528802272963E-2]
[{"$f":"A97+Funkce!$B$5","v":-12.320000000000082},{"$f":"fce","v":-1.9795923757222729E-2},8.0000000000000071E-2,-6.3974871267022219E-3,-7.99685890837777E-2,-1.839573385645909E-3,5.1772955416627055E-2]
[{"$f":"A98+Funkce!$B$5","v":-12.240000000000082},{"$f":"fce","v":-2.6193410883924951E-2},8.0000000000000071E-2,-6.3130138546289259E-3,-7.8912673182861506E-2,-2.347993424899155E-3,4.9424961991727898E-2]
[{"$f":"A99+Funkce!$B$5","v":-12.160000000000082},{"$f":"fce","v":-3.2506424738553877E-2},8.0000000000000071E-2,-6.1873227243381124E-3,-7.7341534054226335E-2,-2.8480068880578371E-3,4.6576955103670062E-2]
[{"$f":"A100+Funkce!$B$5","v":-12.080000000000082},{"$f":"fce","v":-3.8693747462891989E-2},8.0000000000000071E-2,-6.020662370470227E-3,-7.5258279630877764E-2,-3.3363262918501709E-3,4.3240628811819892E-2]
[{"$f":"A101+Funkce!$B$5","v":-12.000000000000082},{"$f":"fce","v":-4.4714409833362216E-2},8.0000000000000071E-2,-5.8135374053380068E-3,-7.2669217566725022E-2,-3.809694282882501E-3,3.9430934528937395E-2]
[{"$f":"A102+Funkce!$B$5","v":-11.920000000000082},{"$f":"fce","v":-5.0527947238700223E-2},8.0000000000000071E-2,-5.5667084640037626E-3,-6.9583855800046973E-2,-4.264904117656172E-3,3.5166030411281225E-2]
[{"$f":"A103+Funkce!$B$5","v":-11.840000000000082},{"$f":"fce","v":-5.6094655702703985E-2},8.0000000000000071E-2,-5.2811907124796983E-3,-6.6014883905996177E-2,-4.6988200847155109E-3,3.0467210326565713E-2]
[{"$f":"A104+Funkce!$B$5","v":-11.760000000000081},{"$f":"fce","v":-6.1375846415183684E-2},8.0000000000000071E-2,-4.9582508117481869E-3,-6.1978135146852284E-2,-5.1083977456846267E-3,2.5358812580881088E-2]
[{"$f":"A105+Funkce!$B$5","v":-11.680000000000081},{"$f":"fce","v":-6.6334097226931871E-2},8.0000000000000071E-2,-4.5994023393306493E-3,-5.7492529241633068E-2,-5.4907038717277807E-3,1.9868108709153308E-2]
[{"$f":"A106+Funkce!$B$5","v":-11.600000000000081},{"$f":"fce","v":-7.093349956626252E-2},8.0000000000000071E-2,-4.2063996792322395E-3,-5.2579995990402945E-2,-5.8429359524702967E-3,1.402517275668301E-2]
[{"$f":"A107+Funkce!$B$5","v":-11.520000000000081},{"$f":"fce","v":-7.513989924549476E-2},8.0000000000000071E-2,-3.7812304002043939E-3,-4.7265380002554883E-2,-6.1624411556477623E-3,7.8627316010352472E-3]
[{"$f":"A108+Funkce!$B$5","v":-11.440000000000081},{"$f":"fce","v":-7.8921129645699153E-2},8.0000000000000071E-2,-3.3261061513390061E-3,-4.1576326891737542E-2,-6.446734617709499E-3,1.4159969833257482E-3]
[{"$f":"A109+Funkce!$B$5","v":-11.360000000000081},{"$f":"fce","v":-8.224723579703816E-2},8.0000000000000071E-2,-2.8434521129965251E-3,-3.5543151412456529E-2,-6.6935169482829201E-3,-5.2775199649571719E-3]
[{"$f":"A110+Funkce!$B$5","v":-11.280000000000081},{"$f":"fce","v":-8.5090687910034685E-2},8.0000000000000071E-2,-2.33589504990174E-3,-2.9198688123771726E-2,-6.90069083479885E-3,-1.2178210799756022E-2]
[{"$f":"A111+Funkce!$B$5","v":-11.200000000000081},{"$f":"fce","v":-8.7426582959936425E-2},8.0000000000000071E-2,-1.8062500218859467E-3,-2.2578125273574313E-2,-7.0663766376703584E-3,-1.924458743742638E-2]
[{"$f":"A112+Funkce!$B$5","v":-11.120000000000081},{"$f":"fce","v":-8.9232832981822371E-2},8.0000000000000071E-2,-1.2575058161422431E-3,-1.5718822701778025E-2,-7.1889268711914853E-3,-2.6433514308617866E-2]
[{"$f":"A113+Funkce!$B$5","v":-11.040000000000081},{"$f":"fce","v":-9.0490338797964615E-2},8.0000000000000071E-2,-6.9280917295180822E-4,-8.6601146618975958E-3,-7.2669394707552482E-3,-3.3700453779373113E-2]
[{"$f":"A114+Funkce!$B$5","v":-10.960000000000081},{"$f":"fce","v":-9.1183147970916423E-2},8.0000000000000071E-2,-1.154478845776935E-4,-1.4430985572211675E-3,-7.2992697530564277E-3,-4.099972353242954E-2]
[{"$f":"A115+Funkce!$B$5","v":-10.880000000000081},{"$f":"fce","v":-9.1298595855494116E-2},8.0000000000000071E-2,4.7116714563284756E-4,5.8895893204105893E-3,-7.2850409826142213E-3,-4.8284764515043758E-2]
[{"$f":"A116+Funkce!$B$5","v":-10.800000000000081},{"$f":"fce","v":-9.0827428709861269E-2},8.0000000000000071E-2,1.0635207899993698E-3,1.3294009874992111E-2,-7.2236534651889325E-3,-5.5508417980232691E-2]
[{"$f":"A117+Funkce!$B$5","v":-10.720000000000081},{"$f":"fce","v":-8.9763907919861899E-2},8.0000000000000071E-2,1.6580134287604853E-3,2.0725167859506049E-2,-7.1147920964385386E-3,-6.2623210076671224E-2]
[{"$f":"A118+Funkce!$B$5","v":-10.640000000000081},{"$f":"fce","v":-8.8105894491101414E-2},8.0000000000000071E-2,2.2509814215908724E-3,2.8137267769885881E-2,-6.9584323024244835E-3,-6.9581642379095712E-2]
[{"$f":"A119+Funkce!$B$5","v":-10.56000000000008},{"$f":"fce","v":-8.5854913069510541E-2},8.0000000000000071E-2,2.8387182068279476E-3,3.5483977585349311E-2,-6.7548443172877311E-3,-7.6336486696383446E-2]
[{"$f":"A120+Funkce!$B$5","v":-10.48000000000008},{"$f":"fce","v":-8.3016194862682594E-2},8.0000000000000071E-2,3.4174959121343745E-3,4.2718698901679647E-2,-6.5045957525292379E-3,-8.2841082448912681E-2]
[{"$f":"A121+Funkce!$B$5","v":-10.40000000000008},{"$f":"fce","v":-7.9598698950548219E-2},8.0000000000000071E-2,3.9835873562375362E-3,4.9794841952969161E-2,-6.2085524217943607E-3,-8.9049634870707037E-2]
[{"$f":"A122+Funkce!$B$5","v":-10.32000000000008},{"$f":"fce","v":-7.5615111594310683E-2},8.0000000000000071E-2,4.5332883179632355E-3,5.6666103974540395E-2,-5.8678773948263301E-3,-9.4917512265533369E-2]
[{"$f":"A123+Funkce!$B$5","v":-10.24000000000008},{"$f":"fce","v":-7.1081823276347447E-2},8.0000000000000071E-2,5.0629399460419278E-3,6.3286749325524042E-2,-5.4840282642661239E-3,-0.10040154052979949]
[{"$f":"A124+Funkce!$B$5","v":-10.16000000000008},{"$f":"fce","v":-6.6018883330305519E-2},8.0000000000000071E-2,5.568951181135505E-3,6.9611889764193746E-2,-5.0587526191790255E-3,-0.10546029314897852]
[{"$f":"A125+Funkce!$B$5","v":-10.08000000000008},{"$f":"fce","v":-6.0449932149170015E-2},8.0000000000000071E-2,6.0478210602252294E-3,7.5597763252815295E-2,-4.594081729524596E-3,-0.11005437487850311]
[{"$f":"A126+Funkce!$B$5","v":-10.00000000000008},{"$f":"fce","v":-5.4402111088944785E-2},8.0000000000000071E-2,6.4961607729320525E-3,8.1202009661650587E-2,-4.0923224561983046E-3,-0.11414669733470142]
[{"$f":"A127+Funkce!$B$5","v":-9.9200000000000799},{"$f":"fce","v":-4.7905950316012733E-2},8.0000000000000071E-2,6.9107153395046583E-3,8.6383941743808146E-2,-3.5560474117008354E-3,-0.11770274474640226]
[{"$f":"A128+Funkce!$B$5","v":-9.8400000000000798},{"$f":"fce","v":-4.0995234976508074E-2},8.0000000000000071E-2,7.2883847811802127E-3,9.1104809764752576E-2,-2.9880834068734402E-3,-0.1206908281532757]
[{"$f":"A129+Funkce!$B$5","v":-9.7600000000000797},{"$f":"fce","v":-3.3706850195327862E-2},8.0000000000000071E-2,7.6262446552107753E-3,9.532805819013461E-2,-2.3914982294178E-3,-0.12308232638269349]
[{"$f":"A130+Funkce!$B$5","v":-9.6800000000000797},{"$f":"fce","v":-2.6080605540117086E-2},{"$f":"A132-A131","v":8.0000000000000071E-2},{"$f":"B132-B131","v":7.9215658293819921E-3},{"$f":"D131/C131","v":9.9019572867274808E-2},{"$f":"0.5*C131*(B131+B132)","v":-1.7695858100340888E-3},-0.12485191219272758]
[{"$f":"A131+Funkce!$B$5","v":-9.6000000000000796},{"$f":"fce","v":-1.8159039710735094E-2},8.0000000000000071E-2,8.171833373924197E-3,0.10214791717405237,-1.1258498419018407E-3,{"$f":"F132+G131","v":-0.12597776203462943}]
[{"$f":"A132+Funkce!$B$5","v":-9.5200000000000795},{"$f":"fce","v":-9.9872063368108971E-3},8.0000000000000071E-2,8.3747644526465381E-3,0.10468455565808163,-4.6398592883901068E-4,-0.12644174796346844]
[{"$f":"A133+Funkce!$B$5","v":-9.4400000000000794},{"$f":"fce","v":-1.6124418841643581E-3},8.0000000000000071E-2,8.5283250997076881E-3,0.10660406374634601,2.1213765325515905E-4,-0.12622961031021329]
[{"$f":"A134+Funkce!$B$5","v":-9.3600000000000794},{"$f":"fce","v":6.91588321554333E-3},8.0000000000000071E-2,8.6307457737214259E-3,0.10788432217151772,8.9850048819232412E-4,-0.12533110982202098]
[{"$f":"A135+Funkce!$B$5","v":-9.2800000000000793},{"$f":"fce","v":1.5546628989264755E-2},8.0000000000000071E-2,8.6805355868404422E-3,0.10850669483550543,1.5909517426147995E-3,-0.12374015807940618]
[{"$f":"A136+Funkce!$B$5","v":-9.2000000000000792},{"$f":"fce","v":2.4227164576105197E-2},8.0000000000000071E-2,8.676495113040205E-3,0.10845618891300246,2.2852329706100258E-3,-0.12145492510879616]
[{"$f":"A137+Funkce!$B$5","v":-9.1200000000000792},{"$f":"fce","v":3.2903659689145402E-2},8.0000000000000071E-2,8.6177276870032377E-3,0.10772159608754038,2.9770018826117644E-3,-0.11847792322618439]
[{"$f":"A138+Funkce!$B$5","v":-9.0400000000000791},{"$f":"fce","v":4.152138737614864E-2},8.0000000000000071E-2,8.5036491127475008E-3,0.10629561390934367,3.6618569546017941E-3,-0.1148160662715826]
[{"$f":"A139+Funkce!$B$5","v":-8.960000000000079},{"$f":"fce","v":5.0025036488896141E-2},8.0000000000000071E-2,8.3339957094036576E-3,0.10417494636754562,4.3353627474878413E-3,-0.11048070352409475]
[{"$f":"A140+Funkce!$B$5","v":-8.8800000000000789},{"$f":"fce","v":5.8359032198299798E-2},8.0000000000000071E-2,8.1088306303015029E-3,0.1013603828787687,4.9930758010760488E-3,-0.1054876277230187]
[{"$f":"A141+Funkce!$B$5","v":-8.8000000000000789},{"$f":"fce","v":6.6467862828601301E-2},8.0000000000000071E-2,7.8285484006934969E-3,9.7856855008668628E-2,5.6305709623158491E-3,-9.9857056760702848E-2]
[{"$f":"A142+Funkce!$B$5","v":-8.7200000000000788},{"$f":"fce","v":7.4296411229294798E-2},8.0000000000000071E-2,7.4938776290171122E-3,9.3673470362713826E-2,6.2434680035042744E-3,-9.3613588757198579E-2]
[{"$f":"A143+Funkce!$B$5","v":-8.6400000000000787},{"$f":"fce","v":8.179028885831191E-2},8.0000000000000071E-2,7.105881856491289E-3,8.8823523206141036E-2,6.8274583829246111E-3,-8.6786130374273962E-2]
[{"$f":"A144+Funkce!$B$5","v":-8.5600000000000787},{"$f":"fce","v":8.8896170714803199E-2},8.0000000000000071E-2,6.6659585200199434E-3,8.3324481500249223E-2,7.3783319979850602E-3,-7.9407798376288904E-2]
[{"$f":"A145+Funkce!$B$5","v":-8.4800000000000786},{"$f":"fce","v":9.5562129234823143E-2},8.0000000000000071E-2,6.1758360137757623E-3,7.7197950172196966E-2,7.89200377933689E-3,-7.1515794596952009E-2]
[{"$f":"A146+Funkce!$B$5","v":-8.4000000000000785},{"$f":"fce","v":0.1017379652485989},8.0000000000000071E-2,5.637568845404381E-3,7.04696105675547E-2,8.3645399737040955E-3,-6.3151254623247915E-2]
[{"$f":"A147+Funkce!$B$5","v":-8.3200000000000784},{"$f":"fce","v":0.10737553409400329},8.0000000000000071E-2,5.0535308934635953E-3,6.3169136168294879E-2,8.7921839632588133E-3,-5.43590706599891E-2]
[{"$f":"A148+Funkce!$B$5","v":-8.2400000000000784},{"$f":"fce","v":0.11242906498746688},8.0000000000000071E-2,4.4264067834327292E-3,5.5330084792909066E-2,9.1713814703346681E-3,-4.5187689189654434E-2]
[{"$f":"A149+Funkce!$B$5","v":-8.1600000000000783},{"$f":"fce","v":0.11685547177089961},8.0000000000000071E-2,3.7591814103389298E-3,4.6989767629236581E-2,9.4988049980855339E-3,-3.5688884191568904E-2]
[{"$f":"A150+Funkce!$B$5","v":-8.0800000000000782},{"$f":"fce","v":0.12061465318123854},8.0000000000000071E-2,3.0551276466814908E-3,3.8189095583518601E-2,9.7713773603663508E-3,-2.5917506831202551E-2]
[{"$f":"A151+Funkce!$B$5","v":-8.0000000000000782},{"$f":"fce","v":0.12366978082792003},8.0000000000000071E-2,2.3177922848399285E-3,2.8972403560499082E-2,9.9862941576272096E-3,-1.5931212673575341E-2]
[{"$f":"A152+Funkce!$B$5","v":-7.9200000000000781},{"$f":"fce","v":0.12598757311275996},8.0000000000000071E-2,1.5509802734602063E-3,1.9387253418252561E-2,1.0141045059959213E-2,-5.790167613616129E-3]
[{"$f":"A153+Funkce!$B$5","v":-7.840000000000078},{"$f":"fce","v":0.12753855338622017},8.0000000000000071E-2,7.5873731736902927E-4,9.4842164671128572E-3,1.0233433763592384E-2,4.4432661499762549E-3]
[{"$f":"A154+Funkce!$B$5","v":-7.7600000000000779},{"$f":"fce","v":0.1282972907035892},8.0000000000000071E-2,-5.4669079687569289E-5,-6.8336349609461546E-4,1.0261596493099642E-2,1.4704862643075897E-2]
[{"$f":"A155+Funkce!$B$5","v":-7.6800000000000779},{"$f":"fce","v":0.12824262162390163},8.0000000000000071E-2,-8.8477004081000121E-4,-1.1059625510125005E-2,1.0224018928279739E-2,2.4928881571355636E-2]
[{"$f":"A156+Funkce!$B$5","v":-7.6000000000000778},{"$f":"fce","v":0.12735785158309162},8.0000000000000071E-2,-1.7269171125902649E-3,-2.1586463907378291E-2,1.0119551442143729E-2,3.5048433013499365E-2]
[{"$f":"A157+Funkce!$B$5","v":-7.5200000000000777},{"$f":"fce","v":0.12563093447050136},8.0000000000000071E-2,-2.576305326534703E-3,-3.220381658168376E-2,9.9474225445787302E-3,4.4995855558078099E-2]
[{"$f":"A158+Funkce!$B$5","v":-7.4400000000000777},{"$f":"fce","v":0.12305462914396666},8.0000000000000071E-2,-3.4279974112135791E-3,-4.2849967640169705E-2,9.7072504350687976E-3,5.47031059931469E-2]
[{"$f":"A159+Funkce!$B$5","v":-7.3600000000000776},{"$f":"fce","v":0.11962663173275308},8.0000000000000071E-2,-4.2769490337126875E-3,-5.3461862921408546E-2,9.3990525772717458E-3,6.4102158570418649E-2]
[{"$f":"A160+Funkce!$B$5","v":-7.2800000000000775},{"$f":"fce","v":0.11534968269904039},8.0000000000000071E-2,-5.1180349422080412E-3,-6.3975436777600453E-2,9.0232532182349182E-3,7.312541178865356E-2]
[{"$f":"A161+Funkce!$B$5","v":-7.2000000000000774},{"$f":"fce","v":0.11023164775683235},8.0000000000000071E-2,-5.9460758753931559E-3,-7.4325948442414386E-2,8.580688785530869E-3,8.1706100574184426E-2]
[{"$f":"A162+Funkce!$B$5","v":-7.1200000000000774},{"$f":"fce","v":0.10428557188143919},8.0000000000000071E-2,-6.7558660990970354E-3,-8.4448326238712873E-2,8.0726111065512612E-3,8.9778711680735687E-2]
[{"$f":"A163+Funkce!$B$5","v":-7.0400000000000773},{"$f":"fce","v":9.7529705782342158E-2},8.0000000000000071E-2,-7.5422014257744974E-3,-9.4277517822181134E-2,7.5006884055563994E-3,9.7279400086292087E-2]
[{"$f":"A164+Funkce!$B$5","v":-6.9600000000000772},{"$f":"fce","v":8.998750435656766E-2},8.0000000000000071E-2,-8.2999075686602947E-3,-0.10374884460825359,6.8670040457790077E-3,0.10414640413207109]
[{"$f":"A165+Funkce!$B$5","v":-6.8800000000000772},{"$f":"fce","v":8.1687596787907366E-2},8.0000000000000071E-2,-9.0238686792791512E-3,-0.11279835849098929,6.1740529958614291E-3,0.11032045712793252]
[{"$f":"A166+Funkce!$B$5","v":-6.8000000000000771},{"$f":"fce","v":7.2663728108628214E-2},8.0000000000000071E-2,-9.7090559147198358E-3,-0.12136319893399784,5.4247360121014677E-3,0.11574519314003399]
[{"$f":"A167+Funkce!$B$5","v":-6.720000000000077},{"$f":"fce","v":6.2954672193908379E-2},8.0000000000000071E-2,-1.0350555879630421E-2,-0.12938194849538015,4.6223515403274575E-3,0.12036754468036145]
[{"$f":"A168+Funkce!$B$5","v":-6.640000000000077},{"$f":"fce","v":5.2604116314277957E-2},8.0000000000000071E-2,-1.0943598787283022E-2,-0.13679498484103766,3.7705853536509192E-3,0.12413813003401238]
[{"$f":"A169+Funkce!$B$5","v":-6.5600000000000769},{"$f":"fce","v":4.1660517526994935E-2},8.0000000000000071E-2,-1.1483586184306629E-2,-0.14354482730383275,2.8734979547873321E-3,0.1270116279887997]
[{"$f":"A170+Funkce!$B$5","v":-6.4800000000000768},{"$f":"fce","v":3.0176931342688305E-2},8.0000000000000071E-2,-1.1966118084786499E-2,-0.1495764760598311,1.9355097840236064E-3,0.12894713777282329]
[{"$f":"A171+Funkce!$B$5","v":-6.4000000000000767},{"$f":"fce","v":1.8210813257901807E-2},8.0000000000000071E-2,-1.238701936139764E-2,-0.15483774201747036,9.6138428617623985E-4,0.12990852205899953]
[{"$f":"A172+Funkce!$B$5","v":-6.3200000000000767},{"$f":"fce","v":5.8237938965041659E-3},8.0000000000000071E-2,-1.2742365244043952E-2,-0.15927956555054926,-4.3791098041424847E-5,0.1298647309609581]
[{"$f":"A173+Funkce!$B$5","v":-6.2400000000000766},{"$f":"fce","v":-6.9185713475397861E-3},8.0000000000000071E-2,-1.3028505780133773E-2,-0.16285632225167201,-1.0746259390085348E-3,0.12879010502194957]
[{"$f":"A174+Funkce!$B$5","v":-6.1600000000000765},{"$f":"fce","v":-1.994707712767356E-2},8.0000000000000071E-2,-1.3242089115097486E-2,-0.16552611393871841,-2.1254497348177862E-3,0.12666465528713178]
[{"$f":"A175+Funkce!$B$5","v":-6.0800000000000765},{"$f":"fce","v":-3.3189166242771045E-2},8.0000000000000071E-2,-1.3380083457036528E-2,-0.16725104321295645,-3.1903366377031479E-3,0.12347431864942864]
[{"$f":"A176+Funkce!$B$5","v":-6.0000000000000764},{"$f":"fce","v":-4.6569249699807573E-2},8.0000000000000071E-2,-1.3439797595456472E-2,-0.16799746994320575,-4.2631318798028684E-3,0.11921118676962576]
[{"$f":"A177+Funkce!$B$5","v":-5.9200000000000763},{"$f":"fce","v":-6.0009047295264045E-2},8.0000000000000071E-2,-1.3418899850852026E-2,-0.16773624813565016,-5.3374797776552102E-3,0.11387370699197055]
[{"$f":"A178+Funkce!$B$5","v":-5.8400000000000762},{"$f":"fce","v":-7.3427947146116071E-2},8.0000000000000071E-2,-1.3315435339444057E-2,-0.16644294174305055,-6.4068531852670531E-3,0.1074668538067035]
[{"$f":"A179+Funkce!$B$5","v":-5.7600000000000762},{"$f":"fce","v":-8.6743382485560128E-2},8.0000000000000071E-2,-1.3127841445583335E-2,-0.16409801806979155,-7.4645842566681501E-3,0.10000226955003534]
[{"$f":"A180+Funkce!$B$5","v":-5.6800000000000761},{"$f":"fce","v":-9.9871223931143463E-2},8.0000000000000071E-2,-1.2854961403186996E-2,-0.1606870175398373,-8.5038963706189647E-3,9.1498373179416378E-2]
[{"$f":"A181+Funkce!$B$5","v":-5.600000000000076},{"$f":"fce","v":-0.11272618533433046},8.0000000000000071E-2,-1.2496055897020741E-2,-0.15620069871275913,-9.5179370626272755E-3,8.1980436116789096E-2]
[{"$f":"A182+Funkce!$B$5","v":-5.520000000000076},{"$f":"fce","v":-0.1252222412313512},8.0000000000000071E-2,-1.2050812604631922E-2,-0.15063515755789889,-1.0499811802693382E-2,7.1480624314095714E-2]
[{"$f":"A183+Funkce!$B$5","v":-5.4400000000000759},{"$f":"fce","v":-0.13727305383598312},8.0000000000000071E-2,-1.1519353610219135E-2,-0.14399192012773906,-1.1442618451287424E-2,6.0038005862808289E-2]
[{"$f":"A184+Funkce!$B$5","v":-5.3600000000000758},{"$f":"fce","v":-0.14879240744620226},8.0000000000000071E-2,-1.0902240632653964E-2,-0.13627800790817443,-1.2339482221002351E-2,4.7698523641805934E-2]
[{"$f":"A185+Funkce!$B$5","v":-5.2800000000000757},{"$f":"fce","v":-0.15969464807885622},8.0000000000000071E-2,-1.0200478021163417E-2,-0.1275059752645426,-1.3183590967155046E-2,3.4514932674650889E-2]
[{"$f":"A186+Funkce!$B$5","v":-5.2000000000000757},{"$f":"fce","v":-0.16989512610001964},8.0000000000000071E-2,-9.4155134838125876E-3,-0.11769391854765723,-1.3968230627354087E-2,2.0546702047296802E-2]
[{"$f":"A187+Funkce!$B$5","v":-5.1200000000000756},{"$f":"fce","v":-0.17931063958383223},8.0000000000000071E-2,-8.5492365258043046E-3,-0.10686545657255371,-1.4686820627738763E-2,5.8598814195580384E-3]
[{"$f":"A188+Funkce!$B$5","v":-5.0400000000000755},{"$f":"fce","v":-0.18785987610963653},8.0000000000000071E-2,-7.6039745866887942E-3,-9.5049682333609845E-2,-1.5332949072238486E-2,-9.4730676526804478E-3]
[{"$f":"A189+Funkce!$B$5","v":-4.9600000000000755},{"$f":"fce","v":-0.19546385069632533},8.0000000000000071E-2,-6.5824868777814294E-3,-8.2281085972267798E-2,-1.5900407530817295E-2,-2.5373475183497744E-2]
[{"$f":"A190+Funkce!$B$5","v":-4.8800000000000754},{"$f":"fce","v":-0.20204633757410675},8.0000000000000071E-2,-5.4879559333551597E-3,-6.8599449166939441E-2,-1.6383225243262762E-2,-4.175670042676051E-2]
[{"$f":"A191+Funkce!$B$5","v":-4.8000000000000753},{"$f":"fce","v":-0.20753429350746191},8.0000000000000071E-2,-4.3239769014378482E-3,-5.4049711267973054E-2,-1.6775702556654483E-2,-5.8532402983414993E-2]
[{"$f":"A192+Funkce!$B$5","v":-4.7200000000000752},{"$f":"fce","v":-0.21185827040889976},8.0000000000000071E-2,-3.09454461223857E-3,-3.8681807652982091E-2,-1.707244341720154E-2,-7.5604846400616529E-2]
[{"$f":"A193+Funkce!$B$5","v":-4.6400000000000752},{"$f":"fce","v":-0.21495281502113833},8.0000000000000071E-2,-1.80403847428387E-3,-2.2550480928548354E-2,-1.7268386740662438E-2,-9.287323314127896E-2]
[{"$f":"A194+Funkce!$B$5","v":-4.5600000000000751},{"$f":"fce","v":-0.2167568534954222},{"$f":"A196-A195","v":8.0000000000000071E-2},{"$f":"B196-B195","v":-4.5720526019718544E-4},{"$f":"D195/C195","v":-5.7150657524648128E-3},{"$f":"0.5*C195*(B195+B196)","v":-1.7358836490041676E-2},-0.11023206963132064]
[{"$f":"A195+Funkce!$B$5","v":-4.480000000000075},{"$f":"fce","v":-0.21721405875561939},8.0000000000000071E-2,9.4086014436431387E-4,1.1760751804553913E-2,-1.7339490294674992E-2,{"$f":"F196+G195","v":-0.12757155992599561}]
[{"$f":"A196+Funkce!$B$5","v":-4.400000000000075},{"$f":"fce","v":-0.21627319861125507},8.0000000000000071E-2,2.3847359438477767E-3,2.980919929809718E-2,-1.7206466451146513E-2,-0.14477802637714213]
[{"$f":"A197+Funkce!$B$5","v":-4.3200000000000749},{"$f":"fce","v":-0.2138884626674073},8.0000000000000071E-2,3.8686964924059541E-3,4.8358706155074385E-2,-1.695632915369636E-2,-0.16173435553083848]
[{"$f":"A198+Funkce!$B$5","v":-4.2400000000000748},{"$f":"fce","v":-0.21001976617500134},8.0000000000000071E-2,5.3867371039443834E-3,6.7334213799304737E-2,-1.6586111809842347E-2,-0.17832046734068083]
[{"$f":"A199+Funkce!$B$5","v":-4.1600000000000747},{"$f":"fce","v":-0.20463302907105696},8.0000000000000071E-2,6.9326004967265598E-3,8.6657506209081914E-2,-1.6093338305815507E-2,-0.19441380564649632]
[{"$f":"A200+Funkce!$B$5","v":-4.0800000000000747},{"$f":"fce","v":-0.1977004285743304},8.0000000000000071E-2,8.4998047473401894E-3,0.10624755934175227,-1.5476042096052838E-2,-0.20988984774254915]
[{"$f":"A201+Funkce!$B$5","v":-4.0000000000000746},{"$f":"fce","v":-0.18920062382699021},8.0000000000000071E-2,1.0081672620142562E-2,0.1260209077517819,-1.4732783001353526E-2,-0.22462263074390268]
[{"$f":"A202+Funkce!$B$5","v":-3.9200000000000745},{"$f":"fce","v":-0.17911895120684765},8.0000000000000071E-2,1.1671362130297958E-2,0.14589202662872433,-1.3862661611335906E-2,-0.23848529235523858]
[{"$f":"A203+Funkce!$B$5","v":-3.8400000000000745},{"$f":"fce","v":-0.16744758907654969},8.0000000000000071E-2,1.3261898191233412E-2,0.16577372739041751,-1.2865331198474651E-2,-0.25135062355371324]
[{"$f":"A204+Funkce!$B$5","v":-3.7600000000000744},{"$f":"fce","v":-0.15418569088531628},8.0000000000000071E-2,1.4846205190812506E-2,0.18557756488515617,-1.1741007063192812E-2,-0.26309163061690605]
[{"$f":"A205+Funkce!$B$5","v":-3.6800000000000743},{"$f":"fce","v":-0.13933948569450377},8.0000000000000071E-2,1.6417140334807553E-2,0.20521425418509423,-1.0490473242168008E-2,-0.27358210385907406]
[{"$f":"A206+Funkce!$B$5","v":-3.6000000000000743},{"$f":"fce","v":-0.12292234535969622},8.0000000000000071E-2,1.7967527591362442E-2,0.22459409489203033,-9.1150865251212083E-3,-0.28269719038419527]
[{"$f":"A207+Funkce!$B$5","v":-3.5200000000000742},{"$f":"fce","v":-0.10495481776833378},8.0000000000000071E-2,1.949019206611613E-2,0.2436274008264514,-7.6167777388220633E-3,-0.29031396812301735]
[{"$f":"A208+Funkce!$B$5","v":-3.4400000000000741},{"$f":"fce","v":-8.5464625702217648E-2},8.0000000000000071E-2,2.0977994634526098E-2,0.262224932931576,-5.9980502707963736E-3,-0.29631201839381371]
[{"$f":"A209+Funkce!$B$5","v":-3.360000000000074},{"$f":"fce","v":-6.4486631067691549E-2},8.0000000000000071E-2,2.2423866655711854E-2,0.28029833319639791,-4.2619758191868532E-3,-0.30057399421300057]
[{"$f":"A210+Funkce!$B$5","v":-3.280000000000074},{"$f":"fce","v":-4.2062764411979696E-2},8.0000000000000071E-2,2.3820844590839566E-2,0.29776055738549428,-2.4121873693247952E-3,-0.30298618158232538]
[{"$f":"A211+Funkce!$B$5","v":-3.2000000000000739},{"$f":"fce","v":-1.824191982114013E-2},8.0000000000000071E-2,2.5162104348712494E-2,0.31452630435890588,-4.5286941174271106E-4,-0.30343905099406809]
[{"$f":"A212+Funkce!$B$5","v":-3.1200000000000738},{"$f":"fce","v":6.9201845275723628E-3},8.0000000000000071E-2,2.6440995181812414E-2,0.33051243977265488,1.6112545694782871E-3,-0.30182779642458979]
[{"$f":"A213+Funkce!$B$5","v":-3.0400000000000738},{"$f":"fce","v":3.3361179709384778E-2},8.0000000000000071E-2,2.7651072957561043E-2,0.34563841196951273,3.7749372950532274E-3,-0.29805285912953655]
[{"$f":"A214+Funkce!$B$5","v":-2.9600000000000737},{"$f":"fce","v":6.1012252666945821E-2},8.0000000000000071E-2,2.8786132632025271E-2,0.35982665790031559,6.0324255186366823E-3,-0.29202043361089985]
[{"$f":"A215+Funkce!$B$5","v":-2.8800000000000736},{"$f":"fce","v":8.9798385298971092E-2},8.0000000000000071E-2,2.9840239756682707E-2,0.37300299695853351,8.3774804141850037E-3,-0.28364295319671484]
[{"$f":"A216+Funkce!$B$5","v":-2.8000000000000735},{"$f":"fce","v":0.1196386250556538},8.0000000000000071E-2,3.0807760853148833E-2,0.38509701066436008,1.0803400438578267E-2,-0.27283955275813659]
[{"$f":"A217+Funkce!$B$5","v":-2.7200000000000735},{"$f":"fce","v":0.15044638590880263},8.0000000000000071E-2,3.1683392495960389E-2,0.39604240619950448,1.3303046572542637E-2,-0.25953650618559398]
[{"$f":"A218+Funkce!$B$5","v":-2.6400000000000734},{"$f":"fce","v":0.18212977840476302},8.0000000000000071E-2,3.2462188949554521E-2,0.40577736186943114,1.5868869830363237E-2,-0.24366763635523075]
[{"$f":"A219+Funkce!$B$5","v":-2.5600000000000733},{"$f":"fce","v":0.21459196735431754},8.0000000000000071E-2,3.3139588212472371E-2,0.41424485265590427,1.8492940916844315E-2,-0.22517469543838645]
[{"$f":"A220+Funkce!$B$5","v":-2.4800000000000733},{"$f":"fce","v":0.24773155556678991},8.0000000000000071E-2,3.3711436329493222E-2,0.4213929541186649,2.1166981898522938E-2,-0.20400771353986352]
[{"$f":"A221+Funkce!$B$5","v":-2.4000000000000732},{"$f":"fce","v":0.28144299189628313},8.0000000000000071E-2,3.4174009840864106E-2,0.42717512301080096,2.3882399745337238E-2,-0.18012531379452629]
[{"$f":"A222+Funkce!$B$5","v":-2.3200000000000731},{"$f":"fce","v":0.31561700173714724},8.0000000000000071E-2,3.4524036246938561E-2,0.43155045308673162,2.6630321588849346E-2,-0.15349499220567694]
[{"$f":"A223+Funkce!$B$5","v":-2.240000000000073},{"$f":"fce","v":0.3501410379840858},8.0000000000000071E-2,3.4758712376385226E-2,0.43448390470481496,2.9401631533782301E-2,-0.12409336067189464]
[{"$f":"A224+Funkce!$B$5","v":-2.160000000000073},{"$f":"fce","v":0.38489975036047103},8.0000000000000071E-2,3.4875720556573786E-2,0.43594650695717196,3.2187008851100665E-2,-9.1906351820793972E-2]
[{"$f":"A225+Funkce!$B$5","v":-2.0800000000000729},{"$f":"fce","v":0.41977547091704481},8.0000000000000071E-2,3.4873242495765511E-2,0.4359155311970685,3.4976967373194237E-2,-5.6929384447599735E-2]
[{"$f":"A226+Funkce!$B$5","v":-2.0000000000000728},{"$f":"fce","v":0.45464871341281032},8.0000000000000071E-2,3.4749970798266028E-2,0.43437463497832496,3.7761895904955503E-2,-1.9167488542644232E-2]
[{"$f":"A227+Funkce!$B$5","v":-1.9200000000000728},{"$f":"fce","v":0.48939868421107635},8.0000000000000071E-2,3.4505118045658922E-2,0.43131397557073614,4.0532099458712507E-2,2.1364610916068276E-2]
[{"$f":"A228+Funkce!$B$5","v":-1.8400000000000727},{"$f":"fce","v":0.52390380225673527},8.0000000000000071E-2,3.4138423389609152E-2,0.42673029237011401,4.3277841116123227E-2,6.4642452032191502E-2]
[{"$f":"A229+Funkce!$B$5","v":-1.7600000000000726},{"$f":"fce","v":0.55804222564634443},8.0000000000000071E-2,3.3650156614385862E-2,0.42062695767982289,4.5989384316283029E-2,0.11063183634847454]
[{"$f":"A230+Funkce!$B$5","v":-1.6800000000000725},{"$f":"fce","v":0.59169238226073029},8.0000000000000071E-2,3.304111964018186E-2,0.41301399550227286,4.8657035366465741E-2,0.15928887171494027]
[{"$f":"A231+Funkce!$B$5","v":-1.6000000000000725},{"$f":"fce","v":0.62473350190091215},8.0000000000000071E-2,3.231264545141721E-2,0.40390806814271479,5.127118597012971E-2,0.21056005768506997]
[{"$f":"A232+Funkce!$B$5","v":-1.5200000000000724},{"$f":"fce","v":0.65704614735232936},8.0000000000000071E-2,3.1466594447425833E-2,0.39333243059282258,5.3822355566083425E-2,0.26438241325115341]
[{"$f":"A233+Funkce!$B$5","v":-1.4400000000000723},{"$f":"fce","v":0.68851274179975519},8.0000000000000071E-2,3.0505348226186335E-2,0.38131685282732886,5.6301233273027919E-2,0.32068364652418135]
[{"$f":"A234+Funkce!$B$5","v":-1.3600000000000723},{"$f":"fce","v":0.71901809002594153},8.0000000000000071E-2,2.9431800824990195E-2,0.36789751031237711,5.8698719235074977E-2,0.37938236575925632]
[{"$f":"A235+Funkce!$B$5","v":-1.2800000000000722},{"$f":"fce","v":0.74844989085093172},8.0000000000000071E-2,2.8249347455066132E-2,0.35311684318832631,6.100596516627723E-2,0.44038833092553353]
[{"$f":"A236+Funkce!$B$5","v":-1.2000000000000721},{"$f":"fce","v":0.77669923830599785},8.0000000000000071E-2,2.6961870780144337E-2,0.33702338475180393,6.3214413895685662E-2,0.50360274482121925]
[{"$f":"A237+Funkce!$B$5","v":-1.120000000000072},{"$f":"fce","v":0.80366110908614219},8.0000000000000071E-2,2.5573724801661424E-2,0.31967156002076752,6.5315837718957895E-2,0.56891858254017713]
[{"$f":"A238+Funkce!$B$5","v":-1.040000000000072},{"$f":"fce","v":0.82923483388780361},7.999999999999996E-2,2.4089716425715224E-2,0.30112145532144047,6.7302375368052864E-2,0.63622095790822997]
[{"$f":"A239+Funkce!$B$5","v":-0.96000000000007202},{"$f":"fce","v":0.85332455031351884},7.999999999999996E-2,2.2515084798926832E-2,0.28143855998658557,6.9166567417038541E-2,0.70538752532526849]
[{"$f":"A240+Funkce!$B$5","v":-0.88000000000007206},{"$f":"fce","v":0.87583963511244567},7.999999999999996E-2,2.0855478511939696E-2,0.26069348139924631,7.0901389949473204E-2,0.77628891527474164]
[{"$f":"A241+Funkce!$B$5","v":-0.8000000000000721},{"$f":"fce","v":0.89669511362438536},7.999999999999996E-2,1.9116930780421981E-2,0.23896163475527488,7.2500286321167673E-2,0.84878920159590932]
[{"$f":"A242+Funkce!$B$5","v":-0.72000000000007214},{"$f":"fce","v":0.91581204440480735},7.999999999999996E-2,1.7305832723915393E-2,0.21632290904894252,7.3957196861341168E-2,0.92274639845725048]
[{"$f":"A243+Funkce!$B$5","v":-0.64000000000007218},{"$f":"fce","v":0.93311787712872274},7.999999999999996E-2,1.5428904872841653E-2,0.19286131091052075,7.5266586365211441E-2,0.99801298482246192]
[{"$f":"A244+Funkce!$B$5","v":-0.56000000000007222},{"$f":"fce","v":0.94854678200156439},8.0000000000000016E-2,1.3493167043180376E-2,0.16866458803975468,7.6423469241852379E-2,1.0744364540643143]
[{"$f":"A245+Funkce!$B$5","v":-0.4800000000000722},{"$f":"fce","v":0.96203994904474477},8.0000000000000016E-2,1.1505906726871906E-2,0.1438238340858988,7.7423432192654476E-2,1.1518598862569689]
[{"$f":"A246+Funkce!$B$5","v":-0.40000000000007219},{"$f":"fce","v":0.97354585577161667},8.0000000000000016E-2,9.4746461537437154E-3,0.11843307692179642,7.8262654307879098E-2,1.2301225405648479]
[{"$f":"A247+Funkce!$B$5","v":-0.32000000000007217},{"$f":"fce","v":0.98302050192536039},8.0000000000000016E-2,7.4071081876947442E-3,9.2588852346184289E-2,7.8937924481536637E-2,1.3090604650463846]
[{"$f":"A248+Funkce!$B$5","v":-0.24000000000007216},{"$f":"fce","v":0.99042761011305513},8.0000000000000016E-2,5.3111812259781788E-3,6.6389765324727221E-2,7.9446656058083542E-2,1.3885071211044682]
[{"$f":"A249+Funkce!$B$5","v":-0.16000000000007214},{"$f":"fce","v":0.99573879133903331},0.08,3.1948832756233392E-3,3.993604094529174E-2,7.9786898638147599E-2,1.4682940197426158]
[{"$f":"A250+Funkce!$B$5","v":-8.0000000000072138E-2},{"$f":"fce","v":0.99893367461465665},0.08,1.0663253853433474E-3,1.3329067316791843E-2,7.9957346984586272E-2,1.548251366727202]
[{"$f":"A251+Funkce!$B$5","v":-7.2136741025019546E-14},{"$f":"fce","v":1},0.08,-1.0663253853394616E-3,-1.332906731674327E-2,7.9957346984586425E-2,1.6282087137117884]
[{"$f":"A252+Funkce!$B$5","v":7.9999999999927865E-2},{"$f":"fce","v":0.99893367461466054},0.08,-3.1948832756193424E-3,-3.993604094524178E-2,7.9786898638148071E-2,1.7079956123499365]
[{"$f":"A253+Funkce!$B$5","v":0.15999999999992787},{"$f":"fce","v":0.9957387913390412},8.0000000000000016E-2,-5.3111812259747371E-3,-6.63897653246842E-2,7.944665605808432E-2,1.7874422684080207]
[{"$f":"A254+Funkce!$B$5","v":0.23999999999992788},{"$f":"fce","v":0.99042761011306646},8.0000000000000016E-2,-7.4071081876908584E-3,-9.2588852346135717E-2,7.8937924481537691E-2,1.8663801928895585]
[{"$f":"A255+Funkce!$B$5","v":0.3199999999999279},{"$f":"fce","v":0.9830205019253756},8.0000000000000016E-2,-9.4746461537399407E-3,-0.11843307692174923,7.8262654307880458E-2,1.9446428471974389]
[{"$f":"A256+Funkce!$B$5","v":0.39999999999992791},{"$f":"fce","v":0.97354585577163566},8.0000000000000016E-2,-1.1505906726868353E-2,-0.14382383408585439,7.7423432192656128E-2,2.0220662793900948]
[{"$f":"A257+Funkce!$B$5","v":0.47999999999992793},{"$f":"fce","v":0.96203994904476731},7.999999999999996E-2,-1.3493167043176713E-2,-0.16866458803970899,7.642346924185428E-2,2.0984897486319491]
[{"$f":"A258+Funkce!$B$5","v":0.55999999999992789},{"$f":"fce","v":0.94854678200159059},{"$f":"A260-A259","v":7.999999999999996E-2},{"$f":"B260-B259","v":-1.5428904872838212E-2},{"$f":"D259/C259","v":-0.19286131091047773},{"$f":"0.5*C259*(B259+B260)","v":7.5266586365213675E-2},2.1737563349971629]
[{"$f":"A259+Funkce!$B$5","v":0.63999999999992785},{"$f":"fce","v":0.93311787712875238},7.999999999999996E-2,-1.7305832723912173E-2,-0.21632290904890228,7.3957196861343666E-2,{"$f":"F260+G259","v":2.2477135318585066}]
[{"$f":"A260+Funkce!$B$5","v":0.71999999999992781},{"$f":"fce","v":0.91581204440484021},7.999999999999996E-2,-1.9116930780418762E-2,-0.23896163475523463,7.2500286321170435E-2,2.3202138181796772]
[{"$f":"A261+Funkce!$B$5","v":0.79999999999992777},{"$f":"fce","v":0.89669511362442145},7.999999999999996E-2,-2.0855478511936809E-2,-0.26069348139921023,7.0901389949476201E-2,2.3911152081291536]
[{"$f":"A262+Funkce!$B$5","v":0.87999999999992773},{"$f":"fce","v":0.87583963511248464},7.999999999999996E-2,-2.2515084798923835E-2,-0.2814385599865481,6.9166567417041788E-2,2.4602817755461954]
[{"$f":"A263+Funkce!$B$5","v":0.95999999999992769},{"$f":"fce","v":0.8533245503135608},7.999999999999996E-2,-2.408971642571367E-2,-0.30112145532142104,6.7302375368056278E-2,2.5275841509142518]
[{"$f":"A264+Funkce!$B$5","v":1.0399999999999276},{"$f":"fce","v":0.82923483388784713},8.0000000000000071E-2,-2.5573724801658981E-2,-0.31967156002073699,6.5315837718961475E-2,2.5928999886332131]
[{"$f":"A265+Funkce!$B$5","v":1.1199999999999277},{"$f":"fce","v":0.80366110908618815},8.0000000000000071E-2,-2.6961870780142005E-2,-0.33702338475177479,6.3214413895689422E-2,2.6561144025289027]
[{"$f":"A266+Funkce!$B$5","v":1.1999999999999278},{"$f":"fce","v":0.77669923830604615},8.0000000000000071E-2,-2.8249347455063911E-2,-0.35311684318829856,6.1005965166281192E-2,2.7171203676951841]
[{"$f":"A267+Funkce!$B$5","v":1.2799999999999279},{"$f":"fce","v":0.74844989085098224},8.0000000000000071E-2,-2.9431800824988197E-2,-0.36789751031235213,5.8698719235079098E-2,2.7758190869302632]
[{"$f":"A268+Funkce!$B$5","v":1.3599999999999279},{"$f":"fce","v":0.71901809002599404},8.0000000000000071E-2,-3.050534822618467E-2,-0.38131685282730804,5.6301233273032179E-2,2.8321203202032956]
[{"$f":"A269+Funkce!$B$5","v":1.439999999999928},{"$f":"fce","v":0.68851274179980937},8.0000000000000071E-2,-3.1466594447424279E-2,-0.39333243059280315,5.3822355566087832E-2,2.8859426757693836]
[{"$f":"A270+Funkce!$B$5","v":1.5199999999999281},{"$f":"fce","v":0.65704614735238509},8.0000000000000071E-2,-3.2312645451415767E-2,-0.40390806814269675,5.127118597013422E-2,2.9372138617395178]
[{"$f":"A271+Funkce!$B$5","v":1.5999999999999281},{"$f":"fce","v":0.62473350190096932},8.0000000000000071E-2,-3.3041119640180638E-2,-0.41301399550225759,4.8657035366470369E-2,2.985870897105988]
[{"$f":"A272+Funkce!$B$5","v":1.6799999999999282},{"$f":"fce","v":0.59169238226078869},8.0000000000000071E-2,-3.3650156614384974E-2,-0.42062695767981179,4.5989384316287733E-2,3.0318602814222757]
[{"$f":"A273+Funkce!$B$5","v":1.7599999999999283},{"$f":"fce","v":0.55804222564640371},8.0000000000000071E-2,-3.4138423389608374E-2,-0.42673029237010429,4.3277841116128007E-2,3.0751381225384038]
[{"$f":"A274+Funkce!$B$5","v":1.8399999999999284},{"$f":"fce","v":0.52390380225679534},8.0000000000000071E-2,-3.4505118045658256E-2,-0.43131397557072781,4.0532099458717337E-2,3.1156702219971213]
[{"$f":"A275+Funkce!$B$5","v":1.9199999999999284},{"$f":"fce","v":0.48939868421113708},8.0000000000000071E-2,-3.4749970798265806E-2,-0.43437463497832218,3.7761895904960367E-2,3.1534321179020814]
[{"$f":"A276+Funkce!$B$5","v":1.9999999999999285},{"$f":"fce","v":0.45464871341287127},8.0000000000000071E-2,-3.4873242495765455E-2,-0.43591553119706783,3.4976967373199115E-2,3.1884090852752807]
[{"$f":"A277+Funkce!$B$5","v":2.0799999999999286},{"$f":"fce","v":0.41977547091710582},8.0000000000000071E-2,-3.4875720556573842E-2,-0.43594650695717263,3.2187008851105543E-2,3.2205960941263863]
[{"$f":"A278+Funkce!$B$5","v":2.1599999999999286},{"$f":"fce","v":0.38489975036053198},8.0000000000000071E-2,-3.4758712376385559E-2,-0.43448390470481912,2.9401631533787161E-2,3.2499977256601733]
[{"$f":"A279+Funkce!$B$5","v":2.2399999999999287},{"$f":"fce","v":0.35014103798414642},8.0000000000000071E-2,-3.4524036246939116E-2,-0.43155045308673856,2.6630321588854172E-2,3.2766280472490275]
[{"$f":"A280+Funkce!$B$5","v":2.3199999999999288},{"$f":"fce","v":0.3156170017372073},8.0000000000000071E-2,-3.4174009840864827E-2,-0.42717512301080995,2.3882399745342012E-2,3.3005104469943696]
[{"$f":"A281+Funkce!$B$5","v":2.3999999999999289},{"$f":"fce","v":0.28144299189634248},8.0000000000000071E-2,-3.3711436329493916E-2,-0.42139295411867356,2.116698189852766E-2,3.3216774288928974]
[{"$f":"A282+Funkce!$B$5","v":2.4799999999999289},{"$f":"fce","v":0.24773155556684856},8.0000000000000071E-2,-3.3139588212473425E-2,-0.41424485265591743,1.8492940916848964E-2,3.3401703698097465]
[{"$f":"A283+Funkce!$B$5","v":2.559999999999929},{"$f":"fce","v":0.21459196735437513},8.0000000000000071E-2,-3.2462188949555992E-2,-0.40577736186944957,1.5868869830367786E-2,3.3560392396401144]
[{"$f":"A284+Funkce!$B$5","v":2.6399999999999291},{"$f":"fce","v":0.18212977840481914},8.0000000000000071E-2,-3.1683392495961832E-2,-0.39604240619952252,1.3303046572547069E-2,3.3693422862126616]
[{"$f":"A285+Funkce!$B$5","v":2.7199999999999291},{"$f":"fce","v":0.15044638590885731},8.0000000000000071E-2,-3.080776085315047E-2,-0.38509701066438051,1.0803400438582576E-2,3.380145686651244]
[{"$f":"A286+Funkce!$B$5","v":2.7999999999999292},{"$f":"fce","v":0.11963862505570684},8.0000000000000071E-2,-2.984023975668447E-2,-0.37300299695855554,8.3774804141891757E-3,3.3885231670654332]
[{"$f":"A287+Funkce!$B$5","v":2.8799999999999293},{"$f":"fce","v":8.9798385299022371E-2},8.0000000000000071E-2,-2.8786132632027027E-2,-0.35982665790033752,6.0324255186407138E-3,3.3945555925840738]
[{"$f":"A288+Funkce!$B$5","v":2.9599999999999294},{"$f":"fce","v":6.1012252666995344E-2},8.0000000000000071E-2,-2.7651072957563104E-2,-0.34563841196953848,3.7749372950571071E-3,3.3983305298791309]
[{"$f":"A289+Funkce!$B$5","v":3.0399999999999294},{"$f":"fce","v":3.336117970943224E-2},8.0000000000000071E-2,-2.6440995181814742E-2,-0.33051243977268396,1.611254569481991E-3,3.3999417844486128]
[{"$f":"A290+Funkce!$B$5","v":3.1199999999999295},{"$f":"fce","v":6.9201845276174977E-3},8.0000000000000071E-2,-2.5162104348714784E-2,-0.31452630435893453,-4.5286941173919195E-4,3.3994889150368737]
[{"$f":"A291+Funkce!$B$5","v":3.1999999999999296},{"$f":"fce","v":-1.8241919821097286E-2},8.0000000000000071E-2,-2.3820844590841956E-2,-0.2977605573855242,-2.4121873693214633E-3,3.3970767276675522]
[{"$f":"A292+Funkce!$B$5","v":3.2799999999999296},{"$f":"fce","v":-4.2062764411939242E-2},8.0000000000000071E-2,-2.2423866655714352E-2,-0.28029833319642916,-4.2619758191837168E-3,3.3928147518483684]
[{"$f":"A293+Funkce!$B$5","v":3.3599999999999297},{"$f":"fce","v":-6.4486631067653594E-2},8.0000000000000071E-2,-2.0977994634528541E-2,-0.26222493293160654,-5.9980502707934341E-3,3.3868167015775752]
[{"$f":"A294+Funkce!$B$5","v":3.4399999999999298},{"$f":"fce","v":-8.5464625702182134E-2},8.0000000000000071E-2,-1.9490192066118794E-2,-0.24362740082648471,-7.6167777388193294E-3,3.379199923838756]
[{"$f":"A295+Funkce!$B$5","v":3.5199999999999299},{"$f":"fce","v":-0.10495481776830093},8.0000000000000071E-2,-1.7967527591365232E-2,-0.22459409489206519,-9.1150865251186913E-3,3.3700848373136374]
[{"$f":"A296+Funkce!$B$5","v":3.5999999999999299},{"$f":"fce","v":-0.12292234535966616},8.0000000000000071E-2,-1.6417140334810301E-2,-0.20521425418512859,-1.0490473242165715E-2,3.3595943640714716]
[{"$f":"A297+Funkce!$B$5","v":3.67999999999993},{"$f":"fce","v":-0.13933948569447646},8.0000000000000071E-2,-1.4846205190815226E-2,-0.18557756488519017,-1.1741007063190737E-2,3.3478533570082809]
[{"$f":"A298+Funkce!$B$5","v":3.7599999999999301},{"$f":"fce","v":-0.15418569088529169},8.0000000000000071E-2,-1.3261898191236215E-2,-0.16577372739045254,-1.2865331198472794E-2,3.3349880258098081]
[{"$f":"A299+Funkce!$B$5","v":3.8399999999999301},{"$f":"fce","v":-0.1674475890765279},8.0000000000000071E-2,-1.1671362130300733E-2,-0.14589202662875903,-1.3862661611334273E-2,3.3211253641984739]
[{"$f":"A300+Funkce!$B$5","v":3.9199999999999302},{"$f":"fce","v":-0.17911895120682864},8.0000000000000071E-2,-1.0081672620145282E-2,-0.1260209077518159,-1.4732783001352114E-2,3.3063925811971218]
[{"$f":"A301+Funkce!$B$5","v":3.9999999999999303},{"$f":"fce","v":-0.18920062382697392},7.9999999999999627E-2,-8.499804747342965E-3,-0.10624755934178756,-1.547604209605156E-2,3.2909165391010702]
[{"$f":"A302+Funkce!$B$5","v":4.0799999999999299},{"$f":"fce","v":-0.19770042857431688},8.0000000000000071E-2,-6.9326004967292798E-3,-8.6657506209115914E-2,-1.6093338305814536E-2,3.2748232007952556]
[{"$f":"A303+Funkce!$B$5","v":4.15999999999993},{"$f":"fce","v":-0.20463302907104616},8.0000000000000071E-2,-5.386737103947048E-3,-6.7334213799338044E-2,-1.658611180984159E-2,3.258237088985414]
[{"$f":"A304+Funkce!$B$5","v":4.23999999999993},{"$f":"fce","v":-0.21001976617499321},8.0000000000000071E-2,-3.8686964924086742E-3,-4.8358706155108386E-2,-1.6956329153695819E-2,3.2412807598317182]
[{"$f":"A305+Funkce!$B$5","v":4.3199999999999301},{"$f":"fce","v":-0.21388846266740189},8.0000000000000071E-2,-2.3847359438503024E-3,-2.9809199298128752E-2,-1.720646645114618E-2,3.2240742933805722]
[{"$f":"A306+Funkce!$B$5","v":4.3999999999999302},{"$f":"fce","v":-0.21627319861125219},8.0000000000000071E-2,-9.4086014436675636E-4,-1.1760751804584444E-2,-1.733949029467486E-2,3.2067348030858973]
[{"$f":"A307+Funkce!$B$5","v":4.4799999999999303},{"$f":"fce","v":-0.21721405875561894},8.0000000000000071E-2,4.5720526019460417E-4,5.7150657524325469E-3,-1.7358836490041746E-2,3.1893759665958554]
[{"$f":"A308+Funkce!$B$5","v":4.5599999999999303},{"$f":"fce","v":-0.21675685349542434},8.0000000000000071E-2,1.8040384742813997E-3,2.2550480928517476E-2,-1.7268386740662705E-2,3.1721075798551928]
[{"$f":"A309+Funkce!$B$5","v":4.6399999999999304},{"$f":"fce","v":-0.21495281502114294},8.0000000000000071E-2,3.0945446122361553E-3,3.8681807652951906E-2,-1.7072443417202005E-2,3.1550351364379909]
[{"$f":"A310+Funkce!$B$5","v":4.7199999999999305},{"$f":"fce","v":-0.21185827040890678},8.0000000000000071E-2,4.3239769014356555E-3,5.4049711267945645E-2,-1.6775702556655132E-2,3.1382594338813359]
[{"$f":"A311+Funkce!$B$5","v":4.7999999999999305},{"$f":"fce","v":-0.20753429350747113},8.0000000000000071E-2,5.4879559333530503E-3,6.8599449166913073E-2,-1.6383225243263584E-2,3.1218762086380725]
[{"$f":"A312+Funkce!$B$5","v":4.8799999999999306},{"$f":"fce","v":-0.20204633757411808},8.0000000000000071E-2,6.582486877779431E-3,8.2281085972242818E-2,-1.5900407530818284E-2,3.1059758011072542]
[{"$f":"A313+Funkce!$B$5","v":4.9599999999999307},{"$f":"fce","v":-0.19546385069633865},8.0000000000000071E-2,7.6039745866869346E-3,9.5049682333586599E-2,-1.5332949072239628E-2,3.0906428520350144]
[{"$f":"A314+Funkce!$B$5","v":5.0399999999999308},{"$f":"fce","v":-0.18785987610965171},8.0000000000000071E-2,8.5492365258026115E-3,0.10686545657253255,-1.4686820627740044E-2,3.0759560314072742]
[{"$f":"A315+Funkce!$B$5","v":5.1199999999999308},{"$f":"fce","v":-0.1793106395838491},8.0000000000000071E-2,9.4155134838110333E-3,0.1176939185476378,-1.3968230627355499E-2,3.0619878007799186]
[{"$f":"A316+Funkce!$B$5","v":5.1999999999999309},{"$f":"fce","v":-0.16989512610003807},8.0000000000000071E-2,1.0200478021162002E-2,0.1275059752645249,-1.3183590967156576E-2,3.0488042098127619]
[{"$f":"A317+Funkce!$B$5","v":5.279999999999931},{"$f":"fce","v":-0.15969464807887607},8.0000000000000071E-2,1.0902240632652743E-2,0.13627800790815917,-1.2339482221003985E-2,3.036464727591758]
[{"$f":"A318+Funkce!$B$5","v":5.359999999999931},{"$f":"fce","v":-0.14879240744622332},8.0000000000000071E-2,1.1519353610218053E-2,0.14399192012772552,-1.1442618451289154E-2,3.025022109140469]
[{"$f":"A319+Funkce!$B$5","v":5.4399999999999311},{"$f":"fce","v":-0.13727305383600527},8.0000000000000071E-2,1.2050812604631006E-2,0.15063515755788745,-1.0499811802695191E-2,3.0145222973377739]
[{"$f":"A320+Funkce!$B$5","v":5.5199999999999312},{"$f":"fce","v":-0.12522224123137426},8.0000000000000071E-2,1.2496055897020117E-2,0.15620069871275133,-9.5179370626291438E-3,3.0050043602751448]
[{"$f":"A321+Funkce!$B$5","v":5.5999999999999313},{"$f":"fce","v":-0.11272618533435415},8.0000000000000071E-2,1.2854961403186427E-2,0.1606870175398302,-8.5038963706208816E-3,2.9965004639045238]
[{"$f":"A322+Funkce!$B$5","v":5.6799999999999313},{"$f":"fce","v":-9.9871223931167721E-2},{"$f":"A324-A323","v":8.0000000000000071E-2},{"$f":"B324-B323","v":1.3127841445582766E-2},{"$f":"D323/C323","v":0.16409801806978444},{"$f":"0.5*C323*(B323+B324)","v":-7.4645842566701138E-3},2.9890358796478536]
[{"$f":"A323+Funkce!$B$5","v":5.7599999999999314},{"$f":"fce","v":-8.6743382485584955E-2},8.0000000000000071E-2,1.3315435339443779E-2,0.16644294174304708,-6.4068531852690515E-3,{"$f":"F324+G323","v":2.9826290264625843}]
[{"$f":"A324+Funkce!$B$5","v":5.8399999999999315},{"$f":"fce","v":-7.3427947146141176E-2},8.0000000000000071E-2,1.3418899850851908E-2,0.16773624813564869,-5.3374797776572225E-3,2.9772915466849272]
[{"$f":"A325+Funkce!$B$5","v":5.9199999999999315},{"$f":"fce","v":-6.0009047295289268E-2},8.0000000000000071E-2,1.3439797595456514E-2,0.16799746994320627,-4.2631318798048851E-3,2.9730284148051225]
[{"$f":"A326+Funkce!$B$5","v":5.9999999999999316},{"$f":"fce","v":-4.6569249699832754E-2},8.0000000000000071E-2,1.3380083457036708E-2,0.16725104321295869,-3.190336637705155E-3,2.9698380781674172]
[{"$f":"A327+Funkce!$B$5","v":6.0799999999999317},{"$f":"fce","v":-3.3189166242796046E-2},8.0000000000000071E-2,1.3242089115097819E-2,0.16552611393872257,-2.1254497348197729E-3,2.9677126284325972]
[{"$f":"A328+Funkce!$B$5","v":6.1599999999999318},{"$f":"fce","v":-1.9947077127698228E-2},8.0000000000000071E-2,1.3028505780134241E-2,0.16285632225167787,-1.0746259390104894E-3,2.9666380024935868]
[{"$f":"A329+Funkce!$B$5","v":6.2399999999999318},{"$f":"fce","v":-6.9185713475639855E-3},8.0000000000000071E-2,1.2742365244044556E-2,0.15927956555055681,-4.3791098043336655E-5,2.9665942113955435]
[{"$f":"A330+Funkce!$B$5","v":6.3199999999999319},{"$f":"fce","v":5.8237938964805702E-3},8.0000000000000071E-2,1.2387019361398372E-2,0.15483774201747952,9.6138428617438142E-4,2.9675555956817177]
[{"$f":"A331+Funkce!$B$5","v":6.399999999999932},{"$f":"fce","v":1.8210813257878943E-2},8.0000000000000071E-2,1.1966118084787345E-2,0.14957647605984167,1.9355097840218112E-3,2.9694911054657394]
[{"$f":"A332+Funkce!$B$5","v":6.479999999999932},{"$f":"fce","v":3.0176931342666288E-2},8.0000000000000071E-2,1.1483586184307594E-2,0.1435448273038448,2.8734979547856091E-3,2.9723646034205249]
[{"$f":"A333+Funkce!$B$5","v":6.5599999999999321},{"$f":"fce","v":4.1660517526973882E-2},8.0000000000000071E-2,1.0943598787284195E-2,0.13679498484105232,3.7705853536492816E-3,2.9761351887741743]
[{"$f":"A334+Funkce!$B$5","v":6.6399999999999322},{"$f":"fce","v":5.2604116314258077E-2},8.0000000000000071E-2,1.0350555879631469E-2,0.12938194849539325,4.6223515403259093E-3,2.9807575403145004]
[{"$f":"A335+Funkce!$B$5","v":6.7199999999999322},{"$f":"fce","v":6.2954672193889546E-2},8.0000000000000071E-2,9.7090559147210848E-3,0.12136319893401346,5.4247360121000114E-3,2.9861822763266002]
[{"$f":"A336+Funkce!$B$5","v":6.7999999999999323},{"$f":"fce","v":7.2663728108610631E-2},8.0000000000000071E-2,9.0238686792804695E-3,0.11279835849100577,6.1740529958600743E-3,2.9923563293224604]
[{"$f":"A337+Funkce!$B$5","v":6.8799999999999324},{"$f":"fce","v":8.1687596787891101E-2},8.0000000000000071E-2,8.2999075686616963E-3,0.10374884460827111,6.8670040457777621E-3,2.9992233333682381]
[{"$f":"A338+Funkce!$B$5","v":6.9599999999999325},{"$f":"fce","v":8.9987504356552797E-2},8.0000000000000071E-2,7.5422014257759407E-3,9.4277517822199175E-2,7.5006884055552683E-3,3.0067240217737932]
[{"$f":"A339+Funkce!$B$5","v":7.0399999999999325},{"$f":"fce","v":9.7529705782328738E-2},8.0000000000000071E-2,6.7558660990985203E-3,8.4448326238731428E-2,8.0726111065502482E-3,3.0147966328803433]
[{"$f":"A340+Funkce!$B$5","v":7.1199999999999326},{"$f":"fce","v":0.10428557188142726},8.0000000000000071E-2,5.9460758753947102E-3,7.4325948442433815E-2,8.5806887855299756E-3,3.023377321665873]
[{"$f":"A341+Funkce!$B$5","v":7.1999999999999327},{"$f":"fce","v":0.11023164775682197},8.0000000000000071E-2,5.1180349422096094E-3,6.3975436777620062E-2,9.0232532182341497E-3,3.032400574884107]
[{"$f":"A342+Funkce!$B$5","v":7.2799999999999327},{"$f":"fce","v":0.11534968269903158},8.0000000000000071E-2,4.2769490337142696E-3,5.3461862921428321E-2,9.3990525772711039E-3,3.0417996274613781]
[{"$f":"A343+Funkce!$B$5","v":7.3599999999999328},{"$f":"fce","v":0.11962663173274585},8.0000000000000071E-2,3.4279974112151751E-3,4.2849967640189654E-2,9.7072504350682841E-3,3.0515068778964465]
[{"$f":"A344+Funkce!$B$5","v":7.4399999999999329},{"$f":"fce","v":0.12305462914396102},8.0000000000000071E-2,2.5763053265363128E-3,3.2203816581703883E-2,9.9474225445783434E-3,3.0614543004410248]
[{"$f":"A345+Funkce!$B$5","v":7.519999999999933},{"$f":"fce","v":0.12563093447049734},8.0000000000000071E-2,1.726917112591847E-3,2.1586463907398067E-2,1.011955144214347E-2,3.0715738518831683]
[{"$f":"A346+Funkce!$B$5","v":7.599999999999933},{"$f":"fce","v":0.12735785158308918},8.0000000000000071E-2,8.8477004081155552E-4,1.1059625510144434E-2,1.0224018928279606E-2,3.0817978708114477]
[{"$f":"A347+Funkce!$B$5","v":7.6799999999999331},{"$f":"fce","v":0.12824262162390074},8.0000000000000071E-2,5.4669079689123601E-5,6.8336349611404436E-4,1.0261596493099634E-2,3.0920594673045474]
[{"$f":"A348+Funkce!$B$5","v":7.7599999999999332},{"$f":"fce","v":0.12829729070358986},8.0000000000000071E-2,-7.5873731736753047E-4,-9.4842164670941222E-3,1.0233433763592497E-2,3.1022929010681399]
[{"$f":"A349+Funkce!$B$5","v":7.8399999999999332},{"$f":"fce","v":0.12753855338622233},8.0000000000000071E-2,-1.5509802734587352E-3,-1.9387253418234173E-2,1.0141045059959447E-2,3.1124339461280992]
[{"$f":"A350+Funkce!$B$5","v":7.9199999999999333},{"$f":"fce","v":0.1259875731127636},8.0000000000000071E-2,-2.317792284838513E-3,-2.8972403560481388E-2,9.9862941576275548E-3,3.1224202402857268]
[{"$f":"A351+Funkce!$B$5","v":7.9999999999999334},{"$f":"fce","v":0.12366978082792508},7.9999999999999183E-2,-3.0551276466801724E-3,-3.8189095583502544E-2,9.7713773603666995E-3,3.1321916176460936]
[{"$f":"A352+Funkce!$B$5","v":8.0799999999999326},{"$f":"fce","v":0.12061465318124491},8.0000000000000071E-2,-3.7591814103376531E-3,-4.6989767629220622E-2,9.498804998086096E-3,3.1416904226441797]
[{"$f":"A353+Funkce!$B$5","v":8.1599999999999326},{"$f":"fce","v":0.11685547177090726},8.0000000000000071E-2,-4.4264067834314247E-3,-5.533008479289276E-2,9.1713814703353325E-3,3.1508618041145149]
[{"$f":"A354+Funkce!$B$5","v":8.2399999999999327},{"$f":"fce","v":0.11242906498747583},8.0000000000000071E-2,-5.0535308934624434E-3,-6.3169136168280487E-2,8.7921839632595766E-3,3.1596539880777743]
[{"$f":"A355+Funkce!$B$5","v":8.3199999999999328},{"$f":"fce","v":0.10737553409401339},8.0000000000000071E-2,-5.6375688454033124E-3,-7.0469610567541335E-2,8.3645399737049455E-3,3.1680185280514794]
[{"$f":"A356+Funkce!$B$5","v":8.3999999999999329},{"$f":"fce","v":0.10173796524861008},8.0000000000000071E-2,-6.1758360137747909E-3,-7.7197950172184823E-2,7.8920037793378216E-3,3.1759105318308172]
[{"$f":"A357+Funkce!$B$5","v":8.4799999999999329},{"$f":"fce","v":9.5562129234835286E-2},8.0000000000000071E-2,-6.665958520019083E-3,-8.3324481500238468E-2,7.3783319979860663E-3,3.1832888638288033]
[{"$f":"A358+Funkce!$B$5","v":8.559999999999933},{"$f":"fce","v":8.8896170714816203E-2},8.0000000000000071E-2,-7.1058818564905118E-3,-8.8823523206131322E-2,6.8274583829256814E-3,3.190116322211729]
[{"$f":"A359+Funkce!$B$5","v":8.6399999999999331},{"$f":"fce","v":8.1790288858325691E-2},8.0000000000000071E-2,-7.4938776290164183E-3,-9.3673470362705152E-2,6.2434680035054046E-3,3.1963597902152343]
[{"$f":"A360+Funkce!$B$5","v":8.7199999999999331},{"$f":"fce","v":7.4296411229309273E-2},8.0000000000000071E-2,-7.828548400692914E-3,-9.7856855008661342E-2,5.6305709623170304E-3,3.2019903611775513]
[{"$f":"A361+Funkce!$B$5","v":8.7999999999999332},{"$f":"fce","v":6.6467862828616359E-2},8.0000000000000071E-2,-8.108830630301031E-3,-0.1013603828787628,4.9930758010772718E-3,3.2069834369786285]
[{"$f":"A362+Funkce!$B$5","v":8.8799999999999333},{"$f":"fce","v":5.8359032198315328E-2},8.0000000000000071E-2,-8.333995709403276E-3,-0.10417494636754086,4.335362747489099E-3,3.2113187997261177]
[{"$f":"A363+Funkce!$B$5","v":8.9599999999999334},{"$f":"fce","v":5.0025036488912052E-2},8.0000000000000071E-2,-8.5036491127472372E-3,-0.10629561390934036,3.6618569546030778E-3,3.2149806566807206]
[{"$f":"A364+Funkce!$B$5","v":9.0399999999999334},{"$f":"fce","v":4.1521387376164814E-2},8.0000000000000071E-2,-8.6177276870032654E-3,-0.10772159608754073,2.9770018826130572E-3,3.2179576585633338]
[{"$f":"A365+Funkce!$B$5","v":9.1199999999999335},{"$f":"fce","v":3.2903659689161549E-2},8.0000000000000071E-2,-8.6764951130401495E-3,-0.10845618891300177,2.2852329706113199E-3,3.2202428915339452]
[{"$f":"A366+Funkce!$B$5","v":9.1999999999999336},{"$f":"fce","v":2.42271645761214E-2},8.0000000000000071E-2,-8.6805355868404821E-3,-0.10850669483550593,1.590951742616094E-3,3.2218338432765612]
[{"$f":"A367+Funkce!$B$5","v":9.2799999999999336},{"$f":"fce","v":1.5546628989280917E-2},8.0000000000000071E-2,-8.6307457737215681E-3,-0.10788432217151951,8.9850048819361151E-4,3.2227323437647546]
[{"$f":"A368+Funkce!$B$5","v":9.3599999999999337},{"$f":"fce","v":6.9158832155593493E-3},8.0000000000000071E-2,-8.5283250997079275E-3,-0.106604063746349,2.1213765325643101E-4,3.2229444814180108]
[{"$f":"A369+Funkce!$B$5","v":9.4399999999999338},{"$f":"fce","v":-1.6124418841485788E-3},8.0000000000000071E-2,-8.3747644526468729E-3,-0.10468455565808582,-4.6398592883776157E-4,3.2224804954891733]
[{"$f":"A370+Funkce!$B$5","v":9.5199999999999338},{"$f":"fce","v":-9.9872063367954511E-3},8.0000000000000071E-2,-8.1718333739246203E-3,-0.10214791717405766,-1.1258498419006219E-3,3.2213546456472728]
[{"$f":"A371+Funkce!$B$5","v":9.5999999999999339},{"$f":"fce","v":-1.8159039710720071E-2},8.0000000000000071E-2,-7.9215658293824986E-3,-9.901957286728115E-2,-1.7695858100329072E-3,3.21958505983724]
[{"$f":"A372+Funkce!$B$5","v":9.679999999999934},{"$f":"fce","v":-2.608060554010257E-2},8.0000000000000071E-2,-7.6262446552113651E-3,-9.5328058190141979E-2,-2.3914982294166625E-3,3.2171935616078233]
[{"$f":"A373+Funkce!$B$5","v":9.7599999999999341},{"$f":"fce","v":-3.3706850195313935E-2},8.0000000000000071E-2,-7.2883847811808858E-3,-9.1104809764760986E-2,-2.988083406872353E-3,3.214205478200951]
[{"$f":"A374+Funkce!$B$5","v":9.8399999999999341},{"$f":"fce","v":-4.0995234976494821E-2},8.0000000000000071E-2,-6.9107153395054008E-3,-8.638394174381743E-2,-3.556047411699805E-3,3.210649430789251]
[{"$f":"A375+Funkce!$B$5","v":9.9199999999999342},{"$f":"fce","v":-4.7905950316000222E-2},8.0000000000000071E-2,-6.4961607729313239E-3,-8.1202009661641483E-2,-4.0923224561972742E-3,3.2065571083330537]
[{"$f":"A376+Funkce!$B$5","v":9.9999999999999343},{"$f":"fce","v":-5.4402111088931546E-2},8.0000000000000071E-2,-6.0478210602240151E-3,-7.5597763252800126E-2,-4.5940817295234884E-3,3.2019630266035302]
[{"$f":"A377+Funkce!$B$5","v":10.079999999999934},{"$f":"fce","v":-6.0449932149155561E-2},8.0000000000000071E-2,-5.5689511811367332E-3,-6.9611889764209109E-2,-5.0587526191779187E-3,3.1969042739843521]
[{"$f":"A378+Funkce!$B$5","v":10.159999999999934},{"$f":"fce","v":-6.6018883330292294E-2},8.0000000000000071E-2,-5.0629399460432045E-3,-6.3286749325540001E-2,-5.4840282642651169E-3,3.1914202457200869]
[{"$f":"A379+Funkce!$B$5","v":10.239999999999934},{"$f":"fce","v":-7.1081823276335498E-2},8.0000000000000071E-2,-4.5332883179645816E-3,-5.6666103974557222E-2,-5.8678773948254281E-3,3.1855523683252613]
[{"$f":"A380+Funkce!$B$5","v":10.319999999999935},{"$f":"fce","v":-7.561511159430008E-2},8.0000000000000071E-2,-3.9835873562389379E-3,-4.9794841952986682E-2,-6.2085524217935697E-3,3.1793438159034677]
[{"$f":"A381+Funkce!$B$5","v":10.399999999999935},{"$f":"fce","v":-7.9598698950539018E-2},8.0000000000000071E-2,-3.4174959121357207E-3,-4.2718698901696474E-2,-6.5045957525285561E-3,3.172839220150939]
[{"$f":"A382+Funkce!$B$5","v":10.479999999999935},{"$f":"fce","v":-8.3016194862674739E-2},8.0000000000000071E-2,-2.8387182068294048E-3,-3.5483977585367525E-2,-6.7548443172871613E-3,3.1660843758336519]
[{"$f":"A383+Funkce!$B$5","v":10.559999999999935},{"$f":"fce","v":-8.5854913069504143E-2},8.0000000000000071E-2,-2.2509814215923712E-3,-2.8137267769904616E-2,-6.9584323024240334E-3,3.1591259435312278]
[{"$f":"A384+Funkce!$B$5","v":10.639999999999935},{"$f":"fce","v":-8.8105894491096515E-2},8.0000000000000071E-2,-1.6580134287619702E-3,-2.072516785952461E-2,-7.1147920964382072E-3,3.1520111514347895]
[{"$f":"A385+Funkce!$B$5","v":10.719999999999935},{"$f":"fce","v":-8.9763907919858485E-2},8.0000000000000071E-2,-1.0635207900008686E-3,-1.3294009875010846E-2,-7.2236534651887192E-3,3.1447874979696007]
[{"$f":"A386+Funkce!$B$5","v":10.799999999999935},{"$f":"fce","v":-9.0827428709859354E-2},{"$f":"A388-A387","v":8.0000000000000071E-2},{"$f":"B388-B387","v":-4.7116714563431861E-4},{"$f":"D387/C387","v":-5.8895893204289774E-3},{"$f":"0.5*C387*(B387+B388)","v":-7.2850409826141277E-3},3.1375024569869865]
[{"$f":"A387+Funkce!$B$5","v":10.879999999999935},{"$f":"fce","v":-9.1298595855493672E-2},8.0000000000000071E-2,1.1544788457623634E-4,1.4430985572029529E-3,-7.2992697530564511E-3,{"$f":"F388+G387","v":3.13020318723393}]
[{"$f":"A388+Funkce!$B$5","v":10.959999999999935},{"$f":"fce","v":-9.1183147970917436E-2},8.0000000000000071E-2,6.9280917295035105E-4,8.6601146618793812E-3,-7.266939470755387E-3,3.1229362477631746]
[{"$f":"A389+Funkce!$B$5","v":11.039999999999935},{"$f":"fce","v":-9.0490338797967085E-2},8.0000000000000071E-2,1.2575058161408692E-3,1.5718822701760851E-2,-7.1889268711917385E-3,3.115747320891983]
[{"$f":"A390+Funkce!$B$5","v":11.119999999999935},{"$f":"fce","v":-8.9232832981826216E-2},8.0000000000000071E-2,1.8062500218845867E-3,2.2578125273557313E-2,-7.0663766376707201E-3,3.1086809442543122]
[{"$f":"A391+Funkce!$B$5","v":11.199999999999935},{"$f":"fce","v":-8.7426582959941629E-2},8.0000000000000071E-2,2.3358950499004355E-3,2.919868812375542E-2,-6.9006908347993183E-3,3.1017802534195127]
[{"$f":"A392+Funkce!$B$5","v":11.279999999999935},{"$f":"fce","v":-8.5090687910041193E-2},8.0000000000000071E-2,2.84345211299529E-3,3.554315141244109E-2,-6.69351694828349E-3,3.0950867364712291]
[{"$f":"A393+Funkce!$B$5","v":11.359999999999935},{"$f":"fce","v":-8.2247235797045903E-2},8.0000000000000071E-2,3.3261061513378126E-3,4.1576326891722623E-2,-6.4467346177101651E-3,3.0886400018535189]
[{"$f":"A394+Funkce!$B$5","v":11.439999999999936},{"$f":"fce","v":-7.8921129645708091E-2},8.0000000000000071E-2,3.7812304002032976E-3,4.7265380002541178E-2,-6.1624411556485204E-3,3.0824775606978703]
[{"$f":"A395+Funkce!$B$5","v":11.519999999999936},{"$f":"fce","v":-7.5139899245504793E-2},8.0000000000000071E-2,4.2063996792313096E-3,5.2579995990391322E-2,-5.8429359524711363E-3,3.0766346247453993]
[{"$f":"A396+Funkce!$B$5","v":11.599999999999936},{"$f":"fce","v":-7.0933499566273484E-2},8.0000000000000071E-2,4.5994023393297057E-3,5.7492529241621272E-2,-5.4907038717286957E-3,3.0711439208736704]
[{"$f":"A397+Funkce!$B$5","v":11.679999999999936},{"$f":"fce","v":-6.6334097226943778E-2},8.0000000000000071E-2,4.9582508117473473E-3,6.1978135146841785E-2,-5.1083977456856137E-3,3.0660355231279848]
[{"$f":"A398+Funkce!$B$5","v":11.759999999999936},{"$f":"fce","v":-6.1375846415196431E-2},8.0000000000000071E-2,5.2811907124789351E-3,6.6014883905986629E-2,-4.6988200847165613E-3,3.0613367030432683]
[{"$f":"A399+Funkce!$B$5","v":11.839999999999936},{"$f":"fce","v":-5.6094655702717496E-2},8.0000000000000071E-2,5.5667084640031034E-3,6.958385580003873E-2,-4.2649041176572797E-3,3.0570717989256111]
[{"$f":"A400+Funkce!$B$5","v":11.919999999999936},{"$f":"fce","v":-5.0527947238714392E-2},8.0000000000000071E-2,5.8135374053374517E-3,7.2669217566718083E-2,-3.8096942828836568E-3,3.0532621046427275]
[{"$f":"A401+Funkce!$B$5","v":11.999999999999936},{"$f":"fce","v":-4.471440983337694E-2},8.0000000000000071E-2,6.0206623704697551E-3,7.5258279630871866E-2,-3.3363262918513679E-3,3.0499257783508762]
[{"$f":"A402+Funkce!$B$5","v":12.079999999999936},{"$f":"fce","v":-3.8693747462907185E-2},8.0000000000000071E-2,6.1873227243377446E-3,7.7341534054221742E-2,-2.8480068880590674E-3,3.047077771462817]
[{"$f":"A403+Funkce!$B$5","v":12.159999999999936},{"$f":"fce","v":-3.2506424738569441E-2},8.0000000000000071E-2,6.3130138546286692E-3,7.8912673182858301E-2,-2.3479934249004109E-3,3.0447297780379166]
[{"$f":"A404+Funkce!$B$5","v":12.239999999999936},{"$f":"fce","v":-2.6193410883940772E-2},8.0000000000000071E-2,6.3974871267020623E-3,7.9968589083775715E-2,-1.8395733856471808E-3,3.0428902046522692]
[{"$f":"A405+Funkce!$B$5","v":12.319999999999936},{"$f":"fce","v":-1.9795923757238709E-2},8.0000000000000071E-2,6.4407483178509015E-3,8.0509353973136202E-2,-1.3260439678650618E-3,3.0415641606844042]
[{"$f":"A406+Funkce!$B$5","v":12.399999999999936},{"$f":"fce","v":-1.3355175439387808E-2},8.0000000000000071E-2,6.4430545558585269E-3,8.0538181948231521E-2,-8.1069185291668432E-4,3.0407534688314874]
[{"$f":"A407+Funkce!$B$5","v":12.479999999999936},{"$f":"fce","v":-6.9121208835292809E-3},8.0000000000000071E-2,6.4049097953323515E-3,8.0061372441654316E-2,-2.9677327886904869E-4,3.0404566955526184]
[{"$f":"A408+Funkce!$B$5","v":12.559999999999937},{"$f":"fce","v":-5.0721108819692972E-4},8.0000000000000071E-2,6.3270588735456065E-3,7.9088235919320016E-2,2.125054678860701E-4,3.0406692010205045]
[{"$f":"A409+Funkce!$B$5","v":12.639999999999937},{"$f":"fce","v":5.8198477853486771E-3},8.0000000000000071E-2,6.2104801954673957E-3,7.7631002443342381E-2,7.1400703064659064E-4,3.0413832080511511]
[{"$f":"A410+Funkce!$B$5","v":12.719999999999937},{"$f":"fce","v":1.2030327980816073E-2},8.0000000000000071E-2,6.0563771052341026E-3,7.5704713815426219E-2,1.2046813226746511E-3,3.0425878893738258]
[{"$f":"A411+Funkce!$B$5","v":12.799999999999937},{"$f":"fce","v":1.8086705086050175E-2},8.0000000000000071E-2,5.8661680085070299E-3,7.3327100106337806E-2,1.6815831272242968E-3,3.0442694725010502]
[{"$f":"A412+Funkce!$B$5","v":12.879999999999937},{"$f":"fce","v":2.3952873094557205E-2},8.0000000000000071E-2,5.6414753169026291E-3,7.0518441461282805E-2,2.1418888602406836E-3,3.0464113613612906]
[{"$f":"A413+Funkce!$B$5","v":12.959999999999937},{"$f":"fce","v":2.9594348411459834E-2},8.0000000000000071E-2,5.3841132919541478E-3,6.7301416149426793E-2,2.5829124045949549E-3,3.0489942737658855]
[{"$f":"A414+Funkce!$B$5","v":13.039999999999937},{"$f":"fce","v":3.4978461703413982E-2},8.0000000000000071E-2,5.0960748718273177E-3,6.3700935897841413E-2,3.0021199311462137E-3,3.0519963936970318]
[{"$f":"A415+Funkce!$B$5","v":13.119999999999937},{"$f":"fce","v":4.00745365752413E-2},8.0000000000000071E-2,4.7795175692395622E-3,5.9743969615494476E-2,3.3971436287888899E-3,3.0553935373258208]
[{"$f":"A416+Funkce!$B$5","v":13.199999999999937},{"$f":"fce","v":4.4854054144480862E-2},8.0000000000000071E-2,4.4367485336954185E-3,5.5459356671192679E-2,3.765794272906289E-3,3.0591593315987269]
[{"$f":"A417+Funkce!$B$5","v":13.279999999999937},{"$f":"fce","v":4.9290802678176281E-2},8.0000000000000071E-2,4.0702088752274865E-3,5.0877610940343536E-2,4.1060725692632057E-3,3.0632654041679901]
[{"$f":"A418+Funkce!$B$5","v":13.359999999999937},{"$f":"fce","v":5.3361011553403767E-2},8.0000000000000071E-2,3.6824573503021971E-3,4.6030716878777425E-2,4.4161792182843933E-3,3.0676815833862743]
[{"$f":"A419+Funkce!$B$5","v":13.439999999999937},{"$f":"fce","v":5.7043468903705964E-2},8.0000000000000071E-2,3.2761535133991604E-3,4.095191891748947E-2,4.6945236528324477E-3,3.0723761070391067]
[{"$f":"A420+Funkce!$B$5","v":13.519999999999937},{"$f":"fce","v":6.0319622417105125E-2},8.0000000000000071E-2,2.8540404399868755E-3,3.5675505499835912E-2,4.9397314109678892E-3,3.0773158384500747]
[{"$f":"A421+Funkce!$B$5","v":13.599999999999937},{"$f":"fce","v":6.3173662857092E-2},8.0000000000000071E-2,2.4189271281909036E-3,3.0236589102386267E-2,5.150650113695001E-3,3.0824664885637696]
[{"$f":"A422+Funkce!$B$5","v":13.679999999999938},{"$f":"fce","v":6.5592589985282904E-2},8.0000000000000071E-2,1.973670687377499E-3,2.4670883592218716E-2,5.3263540263177372E-3,3.0877928425900873]
[{"$f":"A423+Funkce!$B$5","v":13.759999999999938},{"$f":"fce","v":6.7566260672660403E-2},8.0000000000000071E-2,1.5211584221549862E-3,1.901448027693731E-2,5.4661471906990357E-3,3.0932589897807863]
[{"$f":"A424+Funkce!$B$5","v":13.839999999999938},{"$f":"fce","v":6.9087419094815389E-2},8.0000000000000071E-2,1.06428991993196E-3,1.3303623999149488E-2,5.5695651243825141E-3,3.0988285549051686]
[{"$f":"A425+Funkce!$B$5","v":13.919999999999938},{"$f":"fce","v":7.0151709014747349E-2},8.0000000000000071E-2,6.0595924917149213E-4,7.5744906146436447E-3,5.6363750911466535E-3,3.1044649299963152]
[{"$f":"A426+Funkce!$B$5","v":13.999999999999938},{"$f":"fce","v":7.0757668263918841E-2},8.0000000000000071E-2,1.4903737385452143E-4,1.8629671731815161E-3,5.6665749560676935E-3,3.110131504952383]
[{"$f":"A427+Funkce!$B$5","v":14.079999999999938},{"$f":"fce","v":7.0906705637773362E-2},8.0000000000000071E-2,-3.036451125712214E-4,-3.795563907140264E-3,5.6603906465190253E-3,3.1157918955989019]
[{"$f":"A428+Funkce!$B$5","v":14.159999999999938},{"$f":"fce","v":7.0603060525202141E-2},8.0000000000000071E-2,-7.4931483331036608E-4,-9.3664354163795673E-3,5.6182722486837616E-3,3.1214101678475856]
[{"$f":"A429+Funkce!$B$5","v":14.239999999999938},{"$f":"fce","v":6.9853745691891775E-2},8.0000000000000071E-2,-1.1852719573638426E-3,-1.4815899467048019E-2,5.5408887770567929E-3,3.1269510566246423]
[{"$f":"A430+Funkce!$B$5","v":14.319999999999938},{"$f":"fce","v":6.8668473734527932E-2},8.0000000000000071E-2,-1.6089059186036314E-3,-2.0111323982545375E-2,5.4291216620180943E-3,3.1323801782866605]
[{"$f":"A431+Funkce!$B$5","v":14.399999999999938},{"$f":"fce","v":6.7059567815924301E-2},8.0000000000000071E-2,-2.0177104361555065E-3,-2.522138045194381E-2,5.2840570078277289E-3,3.1376642352944883]
[{"$f":"A432+Funkce!$B$5","v":14.479999999999938},{"$f":"fce","v":6.5041857379768794E-2},8.0000000000000071E-2,-2.4092977524261538E-3,-3.0116221905326895E-2,5.1069766802844616E-3,3.1427712119747726]
[{"$f":"A433+Funkce!$B$5","v":14.559999999999938},{"$f":"fce","v":6.263255962734264E-2},8.0000000000000071E-2,-2.781412010527104E-3,-3.4767650131588772E-2,4.8993482897663311E-3,3.147670560264539]
[{"$f":"A434+Funkce!$B$5","v":14.639999999999938},{"$f":"fce","v":5.9851147616815537E-2},8.0000000000000071E-2,-3.1319416986877457E-3,-3.9149271233596787E-2,4.6628141413977376E-3,3.1523333744059365]
[{"$f":"A435+Funkce!$B$5","v":14.719999999999938},{"$f":"fce","v":5.6719205918127791E-2},8.0000000000000071E-2,-3.4589310954667163E-3,-4.3236638693333912E-2,4.3991792296315581E-3,3.1567325536355679]
[{"$f":"A436+Funkce!$B$5","v":14.799999999999939},{"$f":"fce","v":5.3260274822661074E-2},8.0000000000000071E-2,-3.7605906561383046E-3,-4.7007383201728765E-2,4.1103983595673571E-3,3.1608429519951353]
[{"$f":"A437+Funkce!$B$5","v":14.879999999999939},{"$f":"fce","v":4.949968416652277E-2},8.0000000000000071E-2,-4.0353062874944057E-3,-5.0441328593680029E-2,3.7985624818220485E-3,3.1646415144769575]
[{"$f":"A438+Funkce!$B$5","v":14.959999999999939},{"$f":"fce","v":4.5464377879028364E-2},8.0000000000000071E-2,-4.2816474654277653E-3,-5.3520593317847018E-2,3.4658843317051614E-3,3.1681073988086625]
[{"$f":"A439+Funkce!$B$5","v":15.039999999999939},{"$f":"fce","v":4.1182730413600599E-2},8.0000000000000071E-2,-4.498374157000759E-3,-5.6229676962509439E-2,3.1146834668080202E-3,3.1712220822754706]
[{"$f":"A440+Funkce!$B$5","v":15.119999999999939},{"$f":"fce","v":3.668435625659984E-2},8.0000000000000071E-2,-4.6844425162123546E-3,-5.855553145265438E-2,2.7473707998794954E-3,3.1739694530753502]
[{"$f":"A441+Funkce!$B$5","v":15.199999999999939},{"$f":"fce","v":3.1999913740387485E-2},8.0000000000000071E-2,-4.839009330306409E-3,-6.0487616628830058E-2,2.3664327260187446E-3,3.1763358858013691]
[{"$f":"A442+Funkce!$B$5","v":15.279999999999939},{"$f":"fce","v":2.7160904410081076E-2},8.0000000000000071E-2,-4.9614352011727453E-3,-6.201794001465926E-2,1.9744149447595782E-3,3.1783103007461286]
[{"$f":"A443+Funkce!$B$5","v":15.359999999999939},{"$f":"fce","v":2.2199469208908331E-2},8.0000000000000071E-2,-5.0512864541301418E-3,-6.3141080676626715E-2,1.5739060785474621E-3,3.179884206824676]
[{"$f":"A444+Funkce!$B$5","v":15.439999999999939},{"$f":"fce","v":1.7148182754778189E-2},8.0000000000000071E-2,-5.1083357741024508E-3,-6.3854197176280575E-2,1.1675211894181582E-3,3.181051728014094]
[{"$f":"A445+Funkce!$B$5","v":15.519999999999939},{"$f":"fce","v":1.2039846980675738E-2},8.0000000000000071E-2,-5.1325615768588375E-3,-6.4157019710735411E-2,7.5788529537970618E-4,3.1818096133094738]
[{"$f":"A446+Funkce!$B$5","v":15.599999999999939},{"$f":"fce","v":6.9072854038169009E-3},8.0000000000000071E-2,-5.1241461305413204E-3,-6.4051826631766451E-2,3.4761698708369958E-4,3.1821572302965575]
[{"$f":"A447+Funkce!$B$5","v":15.679999999999939},{"$f":"fce","v":1.7831392732755801E-3},8.0000000000000071E-2,-5.0834724501039137E-3,-6.3543405626298871E-2,-6.0687756142110192E-5,3.1820965425404153]
[{"$f":"A448+Funkce!$B$5","v":15.759999999999939},{"$f":"fce","v":-3.3003331768283336E-3},8.0000000000000071E-2,-5.0111199944933155E-3,-6.2638999931166381E-2,-4.6447145392599975E-4,3.1816320710864892]
[{"$f":"A449+Funkce!$B$5","v":15.839999999999939},{"$f":"fce","v":-8.3114531713216495E-3},8.0000000000000071E-2,-4.9078592033708242E-3,-6.1348240042135245E-2,-8.6123062184056574E-4,3.1807708404646484]
[{"$f":"A450+Funkce!$B$5","v":15.91999999999994},{"$f":"fce","v":-1.3219312374692474E-2},{"$f":"A452-A451","v":8.0000000000000071E-2},{"$f":"B452-B451","v":-4.7746449168682651E-3},{"$f":"D451/C451","v":-5.9683061460853261E-2},{"$f":"0.5*C451*(B451+B452)","v":-1.2485307866501297E-3},3.1795223096779983]
[{"$f":"A451+Funkce!$B$5","v":15.99999999999994},{"$f":"fce","v":-1.7993957291560739E-2},7.9999999999998295E-2,-4.612608728249503E-3,-5.7657609103120018E-2,-1.6240209324548047E-3,{"$f":"F452+G451","v":3.1778982887455434}]
[{"$f":"A452+Funkce!$B$5","v":16.079999999999938},{"$f":"fce","v":-2.2606566019810242E-2},7.9999999999998295E-2,-4.4230503253785587E-3,-5.5288129067233162E-2,-1.9854472945999195E-3,3.1759128414509434]
[{"$f":"A453+Funkce!$B$5","v":16.159999999999936},{"$f":"fce","v":-2.7029616345188801E-2},7.9999999999998295E-2,-4.2074278825363562E-3,-5.2592848531705573E-2,-2.3306664229165086E-3,3.1735821750280269]
[{"$f":"A454+Funkce!$B$5","v":16.239999999999934},{"$f":"fce","v":-3.1237044227725157E-2},7.9999999999998295E-2,-3.9673475693675353E-3,-4.9591844617095246E-2,-2.6576574409926572E-3,3.1709245175870344]
[{"$f":"A455+Funkce!$B$5","v":16.319999999999933},{"$f":"fce","v":-3.5204391797092692E-2},7.9999999999998295E-2,-3.7045522485094351E-3,-4.6306903106368924E-2,-2.9645334337077296E-3,3.1679599841533266]
[{"$f":"A456+Funkce!$B$5","v":16.399999999999931},{"$f":"fce","v":-3.8908944045602127E-2},7.9999999999998295E-2,-3.4209094377947238E-3,-4.276136797243496E-2,-3.24955190115989E-3,3.1647104322521669]
[{"$f":"A457+Funkce!$B$5","v":16.479999999999929},{"$f":"fce","v":-4.2329853483396851E-2},7.9999999999998295E-2,-3.1183986167237152E-3,-3.8979982709047269E-2,-3.5111242233406221E-3,3.1611993080288263]
[{"$f":"A458+Funkce!$B$5","v":16.559999999999928},{"$f":"fce","v":-4.5448252100120566E-2},7.9999999999998295E-2,-2.7990979602409496E-3,-3.4988724503012616E-2,-3.7478240864192037E-3,3.157451483942407]
[{"$f":"A459+Funkce!$B$5","v":16.639999999999926},{"$f":"fce","v":-4.8247350060361516E-2},7.9999999999998295E-2,-2.46517058562052E-3,-3.0814632320257156E-2,-3.9583948282536571E-3,3.1534930891141535]
[{"$f":"A460+Funkce!$B$5","v":16.719999999999924},{"$f":"fce","v":-5.0712520645982036E-2},7.9999999999998295E-2,-2.1188504005336742E-3,-2.6485630006671493E-2,-4.1417556676998221E-3,3.1493513334464538]
[{"$f":"A461+Funkce!$B$5","v":16.799999999999923},{"$f":"fce","v":-5.283137104651571E-2},7.9999999999998295E-2,-1.7624276420562107E-3,-2.2030345525703102E-2,-4.2970067894034132E-3,3.1450543266570503]
[{"$f":"A462+Funkce!$B$5","v":16.879999999999921},{"$f":"fce","v":-5.4593798688571921E-2},7.9999999999998295E-2,-1.3982341975347645E-3,-1.7477927469184928E-2,-4.4234332629870497E-3,3.1406308933940634]
[{"$f":"A463+Funkce!$B$5","v":16.959999999999919},{"$f":"fce","v":-5.5992032886106685E-2},7.9999999999998295E-2,-1.0286287988045192E-3,-1.2857859985056765E-2,-4.5205077828406196E-3,3.1361103856112229]
[{"$f":"A464+Funkce!$B$5","v":17.039999999999917},{"$f":"fce","v":-5.7020661684911204E-2},7.9999999999998295E-2,-6.559821812923694E-4,-8.1997772661547928E-3,-4.5878922220444936E-3,3.1315224933891783]
[{"$f":"A465+Funkce!$B$5","v":17.119999999999916},{"$f":"fce","v":-5.7676643866203574E-2},7.9999999999998295E-2,-2.8266229900537898E-4,-3.5332787375673127E-3,-4.625438001256402E-3,3.1268970553879218]
[{"$f":"A466+Funkce!$B$5","v":17.199999999999914},{"$f":"fce","v":-5.7959306165208953E-2},7.9999999999998295E-2,8.8980314658905491E-5,1.1122539332363423E-3,-4.633185280630261E-3,3.1222638701072918]
[{"$f":"A467+Funkce!$B$5","v":17.279999999999912},{"$f":"fce","v":-5.7870325850550047E-2},7.9999999999998295E-2,4.5662695195759079E-4,5.7078368994700063E-3,-4.6113609899656018E-3,3.1176525091173262]
[{"$f":"A468+Funkce!$B$5","v":17.359999999999911},{"$f":"fce","v":-5.7413698898592457E-2},7.9999999999998295E-2,8.1800481550618753E-4,1.0225060193827563E-2,-4.5603757192670515E-3,3.1130921333980592]
[{"$f":"A469+Funkce!$B$5","v":17.439999999999909},{"$f":"fce","v":-5.6595694083086269E-2},7.9999999999998295E-2,1.170900699084175E-3,1.46362587385525E-2,-4.4808194986834396E-3,3.1086113138993756]
[{"$f":"A470+Funkce!$B$5","v":17.519999999999907},{"$f":"fce","v":-5.5424793384002094E-2},7.9999999999998295E-2,1.5131741841065277E-3,1.8914677301331999E-2,-4.3734565033558132E-3,3.1042378573960199]
[{"$f":"A471+Funkce!$B$5","v":17.599999999999905},{"$f":"fce","v":-5.3911619199895566E-2},7.9999999999998295E-2,1.8427702749162639E-3,2.3034628436453791E-2,-4.2392187249949047E-3,3.0999986386710248]
[{"$f":"A472+Funkce!$B$5","v":17.679999999999904},{"$f":"fce","v":-5.2068848924979302E-2},7.9999999999998295E-2,2.1577314000755243E-3,2.697164250094463E-2,-4.0791986579952364E-3,3.0959194400130294]
[{"$f":"A473+Funkce!$B$5","v":17.759999999999902},{"$f":"fce","v":-4.9911117524903778E-2},7.9999999999998295E-2,2.4562087112787664E-3,3.0702608890985236E-2,-3.8946410535410682E-3,3.0920247989594882]
[{"$f":"A474+Funkce!$B$5","v":17.8399999999999},{"$f":"fce","v":-4.7454908813625012E-2},7.9999999999998295E-2,2.7364726163239331E-3,3.4205907704049895E-2,-3.6869338004369649E-3,3.0883378651590512]
[{"$f":"A475+Funkce!$B$5","v":17.919999999999899},{"$f":"fce","v":-4.4718436197301079E-2},7.9999999999998295E-2,2.9969224877596373E-3,3.7461531096996264E-2,-3.4575979962736272E-3,3.0848802671627777]
[{"$f":"A476+Funkce!$B$5","v":17.999999999999897},{"$f":"fce","v":-4.1721513709541441E-2},7.9999999999998295E-2,3.2360954943018161E-3,4.0451193678773562E-2,-3.2082772769911742E-3,3.0816719898857867]
[{"$f":"A477+Funkce!$B$5","v":18.079999999999895},{"$f":"fce","v":-3.8485418215239625E-2},7.9999999999998295E-2,3.452674507896325E-3,4.3158431348704986E-2,-2.9407264769032541E-3,3.0787312634088835]
[{"$f":"A478+Funkce!$B$5","v":18.159999999999894},{"$f":"fce","v":-3.50327437073433E-2},7.9999999999998295E-2,3.6454950453011156E-3,4.5568688066264913E-2,-2.6567996947753623E-3,3.0760744637141082]
[{"$f":"A479+Funkce!$B$5","v":18.239999999999892},{"$f":"fce","v":-3.1387248662042184E-2},7.9999999999998295E-2,3.8135512092973868E-3,4.7669390116218353E-2,-2.358437844591429E-3,3.0737160258695169]
[{"$f":"A480+Funkce!$B$5","v":18.31999999999989},{"$f":"fce","v":-2.7573697452744798E-2},7.9999999999998295E-2,3.9560006010062841E-3,4.9450007512579608E-2,-2.047655772179289E-3,3.0716683700973375]
[{"$f":"A481+Funkce!$B$5","v":18.399999999999888},{"$f":"fce","v":-2.3617696851738514E-2},7.9999999999998295E-2,4.0721681813192974E-3,5.0902102266492305E-2,-1.7265290208862726E-3,3.0699418410764512]
[{"$f":"A482+Funkce!$B$5","v":18.479999999999887},{"$f":"fce","v":-1.9545528670419216E-2},7.9999999999998295E-2,4.1615490660286934E-3,5.201936332535978E-2,-1.3971803309923599E-3,3.068544660745459]
[{"$f":"A483+Funkce!$B$5","v":18.559999999999885},{"$f":"fce","v":-1.5383979604390523E-2},7.9999999999998295E-2,4.2238102459099241E-3,5.2797628073875176E-2,-1.0617659585148221E-3,3.0674828947869441]
[{"$f":"A484+Funkce!$B$5","v":18.639999999999883},{"$f":"fce","v":-1.1160169358480599E-2},7.9999999999998295E-2,4.2587912296350901E-3,5.3234890370439762E-2,-7.2246189949302887E-4,3.0667604328874511]
[{"$f":"A485+Funkce!$B$5","v":18.719999999999882},{"$f":"fce","v":-6.9013781288455086E-3},7.9999999999998295E-2,4.2665036140334331E-3,5.3331295175419048E-2,-3.8145010574629521E-4,3.0663789827817047]
[{"$f":"A486+Funkce!$B$5","v":18.79999999999988},{"$f":"fce","v":-2.6348745148120759E-3},7.9999999999998295E-2,4.2471295927297096E-3,5.3089119909122504E-2,-4.090477747577682E-5,3.0663380780042289]
[{"$f":"A487+Funkce!$B$5","v":18.879999999999878},{"$f":"fce","v":1.6122550779176337E-3},7.9999999999998295E-2,4.2010194206392772E-3,5.2512742757992087E-2,2.9702118305897549E-4,3.0666350991872879]
[{"$f":"A488+Funkce!$B$5","v":18.959999999999877},{"$f":"fce","v":5.8132744985569113E-3},7.9999999999998295E-2,4.1286878580454756E-3,5.1608598225569548E-2,6.3020947420635838E-4,3.0672653086614945]
[{"$f":"A489+Funkce!$B$5","v":19.039999999999875},{"$f":"fce","v":9.9419623566023869E-3},7.9999999999998295E-2,4.0308096240901075E-3,5.038512030112742E-2,9.5658937349177482E-4,3.0682218980349862]
[{"$f":"A490+Funkce!$B$5","v":19.119999999999873},{"$f":"fce","v":1.3972771980692494E-2},7.9999999999998295E-2,3.9082138953389529E-3,4.8852673691737951E-2,1.2741503142689305E-3,3.0694960483492553]
[{"$f":"A491+Funkce!$B$5","v":19.199999999999871},{"$f":"fce","v":1.7880985876031447E-2},7.9999999999998295E-2,3.7618778907034175E-3,4.7023473633793722E-2,1.5809539857106188E-3,3.0710770023349658]
[{"$f":"A492+Funkce!$B$5","v":19.27999999999987},{"$f":"fce","v":2.1642863766734865E-2},7.9999999999998295E-2,3.5929195892792747E-3,4.4911494865991893E-2,1.87514588490992E-3,3.0729521482198758]
[{"$f":"A493+Funkce!$B$5","v":19.359999999999868},{"$f":"fce","v":2.523578335601414E-2},7.9999999999998295E-2,3.4025896326666701E-3,4.2532370408334283E-2,2.154966253787752E-3,3.0751071144736635]
[{"$f":"A494+Funkce!$B$5","v":19.439999999999866},{"$f":"fce","v":2.863837298868081E-2},7.9999999999998295E-2,3.1922624679449445E-3,3.9903280849312654E-2,2.4187603378122108E-3,3.0775258748114758]
[{"$f":"A495+Funkce!$B$5","v":19.519999999999865},{"$f":"fce","v":3.1830635456625754E-2},7.9999999999998295E-2,2.9634267917448484E-3,3.7042834896811393E-2,2.6649879081997972E-3,3.0801908627196757]
[{"$f":"A496+Funkce!$B$5","v":19.599999999999863},{"$f":"fce","v":3.4794062248370602E-2},7.9999999999998295E-2,2.7176753597077663E-3,3.39709419963478E-2,2.8922319942578972E-3,3.0830830947139334]
[{"$f":"A497+Funkce!$B$5","v":19.679999999999861},{"$f":"fce","v":3.7511737608078369E-2},7.9999999999998295E-2,2.4566942290496913E-3,3.0708677863121796E-2,3.0992067778081913E-3,3.0861823014917418]
[{"$f":"A498+Funkce!$B$5","v":19.759999999999859},{"$f":"fce","v":3.996843183712806E-2},7.9999999999998295E-2,2.1822515049542274E-3,2.7278143811928425E-2,3.2847646071683437E-3,3.0894670660989103]
[{"$f":"A499+Funkce!$B$5","v":19.839999999999858},{"$f":"fce","v":4.2150683342082287E-2},7.9999999999998295E-2,1.8961856640422881E-3,2.3702320800529107E-2,3.4479020939282008E-3,3.0929149681928383]
[{"$f":"A500+Funkce!$B$5","v":19.919999999999856},{"$f":"fce","v":4.4046869006124575E-2},7.9999999999998295E-2,1.6003935302550051E-3,2.0004919128187991E-2,3.5877652617000901E-3,3.0965027334545385]
[{"$f":"A501+Funkce!$B$5","v":19.999999999999854},{"$f":"fce","v":4.5647262536379581E-2},7.9999999999998295E-2,1.2968179800680879E-3,1.6210224750851446E-2,3.7036537221130112E-3,3.1002063871766516]
[{"$f":"A502+Funkce!$B$5","v":20.079999999999853},{"$f":"fce","v":4.6944080516447668E-2},7.9999999999998295E-2,9.8743545508254982E-4,1.2342943188532136E-2,3.7950238595190347E-3,3.1040014110361707]
[{"$f":"A503+Funkce!$B$5","v":20.159999999999851},{"$f":"fce","v":4.7931515971530218E-2},7.9999999999998295E-2,6.7424336065207563E-4,8.4280420081511258E-3,3.861491012148418E-3,3.1078629020483191]
[{"$f":"A504+Funkce!$B$5","v":20.239999999999849},{"$f":"fce","v":4.8605759332182294E-2},7.9999999999998295E-2,3.5924742936204596E-4,4.4905928670256699E-3,3.9028306437489824E-3,3.111765732692068]
[{"$f":"A505+Funkce!$B$5","v":20.319999999999848},{"$f":"fce","v":4.896500676154434E-2},7.9999999999998295E-2,4.4449127802471955E-5,5.5561409753091125E-4,3.9189785060355625E-3,3.1156847111981034]
[{"$f":"A506+Funkce!$B$5","v":20.399999999999846},{"$f":"fce","v":4.9009455889346812E-2},7.9999999999998295E-2,-2.6816681569717671E-4,-3.3520851962147804E-3,3.9100297985197744E-3,3.1195947409966234]
[{"$f":"A507+Funkce!$B$5","v":20.479999999999844},{"$f":"fce","v":4.8741289073649635E-2},7.9999999999998295E-2,-5.7664468606134084E-4,-7.208058575766914E-3,3.876237338449435E-3,3.1234709783350727]
[{"$f":"A508+Funkce!$B$5","v":20.559999999999842},{"$f":"fce","v":4.8164644387588294E-2},7.9999999999998295E-2,-8.7906978458353324E-4,-1.09883723072944E-2,3.8180087596236408E-3,3.1272889870946963]
[{"$f":"A509+Funkce!$B$5","v":20.639999999999841},{"$f":"fce","v":4.7285574603004761E-2},7.9999999999998295E-2,-1.1735800877858693E-3,-1.4669751097323679E-2,3.7359027647288663E-3,3.1310248898594253]
[{"$f":"A510+Funkce!$B$5","v":20.719999999999839},{"$f":"fce","v":4.6111994515218892E-2},7.9999999999998295E-2,-1.4583774922706724E-3,-1.8229718653383794E-2,3.6306244615266071E-3,3.134655514320952]
[{"$f":"A511+Funkce!$B$5","v":20.799999999999837},{"$f":"fce","v":4.4653617022948219E-2},7.9999999999998295E-2,-1.7317385788534617E-3,-2.1646732235668733E-2,3.5030198186816442E-3,3.1381585341396336]
[{"$f":"A512+Funkce!$B$5","v":20.879999999999836},{"$f":"fce","v":4.2921878444094758E-2},7.9999999999998295E-2,-1.9920248327038315E-3,-2.4900310408798424E-2,3.3540692822193558E-3,3.141512603421853]
[{"$f":"A513+Funkce!$B$5","v":20.959999999999834},{"$f":"fce","v":4.0929853611390926E-2},7.9999999999998295E-2,-2.2376922600148147E-3,-2.797115325018578E-2,3.1848805985106136E-3,3.1446974840203636]
[{"$f":"A514+Funkce!$B$5","v":21.039999999999832},{"$f":"fce","v":3.8692161351376111E-2},{"$f":"A516-A515","v":7.9999999999998295E-2},{"$f":"B516-B515","v":-2.4673003458652101E-3},{"$f":"D515/C515","v":-3.0841254323315782E-2},{"$f":"0.5*C515*(B515+B516)","v":2.996680894275417E-3},3.1476941649146393]
[{"$f":"A515+Funkce!$B$5","v":21.11999999999983},{"$f":"fce","v":3.6224861005510901E-2},7.9999999999998295E-2,-2.6795203023916095E-3,-3.349400377989583E-2,2.7908080683451478E-3,{"$f":"F516+G515","v":3.1504849729829845}]
[{"$f":"A516+Funkce!$B$5","v":21.199999999999829},{"$f":"fce","v":3.3545340703119292E-2},7.9999999999998295E-2,-2.8731425611180639E-3,-3.5914282013976562E-2,2.568701553804766E-3,3.1530536745367894]
[{"$f":"A517+Funkce!$B$5","v":21.279999999999827},{"$f":"fce","v":3.0672198142001228E-2},7.9999999999998295E-2,-3.0470834682905824E-3,-3.8088543353633091E-2,2.3318925126284253E-3,3.155385567049418]
[{"$f":"A518+Funkce!$B$5","v":21.359999999999825},{"$f":"fce","v":2.7625114673710646E-2},7.9999999999998295E-2,-3.2003911472594827E-3,-4.0004889340744386E-2,2.0819935280064279E-3,3.1574675605774245]
[{"$f":"A519+Funkce!$B$5","v":21.439999999999824},{"$f":"fce","v":2.4424723526451163E-2},7.9999999999998295E-2,-3.3322504973647346E-3,-4.1653131217060067E-2,1.8206878622214649E-3,3.1592882484396458]
[{"$f":"A520+Funkce!$B$5","v":21.519999999999822},{"$f":"fce","v":2.1092473029086428E-2},7.9999999999998295E-2,-3.4419873043118471E-3,-4.3024841303899004E-2,1.5497183501544073E-3,3.1608379667898001]
[{"$f":"A521+Funkce!$B$5","v":21.59999999999982},{"$f":"fce","v":1.7650485724774581E-2},7.9999999999998295E-2,-3.5290714427104308E-3,-4.4113393033881322E-2,1.2708760002735221E-3,3.1621088427900736]
[{"$f":"A522+Funkce!$B$5","v":21.679999999999819},{"$f":"fce","v":1.412141428206415E-2},7.9999999999998295E-2,-3.5931191571780714E-3,-4.4913989464726849E-2,9.8598837627798808E-4,3.1630948311663518]
[{"$f":"A523+Funkce!$B$5","v":21.759999999999817},{"$f":"fce","v":1.0528295124886079E-2},7.9999999999998295E-2,-3.6338944142263593E-3,-4.542368017783046E-2,6.969078334218171E-4,3.1637917389997736]
[{"$f":"A524+Funkce!$B$5","v":21.839999999999815},{"$f":"fce","v":6.8944007106597196E-3},7.9999999999998295E-2,-3.6513093229315003E-3,-4.5641366536644724E-2,4.054996839355089E-4,3.1641972386837089]
[{"$f":"A525+Funkce!$B$5","v":21.919999999999813},{"$f":"fce","v":3.2430913877282194E-3},7.9999999999998295E-2,-3.6454236281920835E-3,-4.5567795352402012E-2,1.1363036589057178E-4,3.1643108690495994]
[{"$f":"A526+Funkce!$B$5","v":21.999999999999812},{"$f":"fce","v":-4.0233224046386414E-4},7.9999999999998295E-2,-3.6164432860749125E-3,-4.5205541075937369E-2,-1.7684431068010185E-4,3.1641340247389191]
[{"$f":"A527+Funkce!$B$5","v":22.07999999999981},{"$f":"fce","v":-4.0187755265387766E-3},7.9999999999998295E-2,-3.5647181363935932E-3,-4.4558976704920865E-2,-4.6409076757883595E-4,3.1636699339713403]
[{"$f":"A528+Funkce!$B$5","v":22.159999999999808},{"$f":"fce","v":-7.5834936629323698E-3},7.9999999999998295E-2,-3.490738693137368E-3,-4.3634233664218029E-2,-7.463090407600684E-4,3.1629236249305803]
[{"$f":"A529+Funkce!$B$5","v":22.239999999999807},{"$f":"fce","v":-1.1074232356069738E-2},7.9999999999998295E-2,-3.3951320787188027E-3,-4.2439150983985936E-2,-1.0217438716343093E-3,3.1619018810589461]
[{"$f":"A530+Funkce!$B$5","v":22.319999999999805},{"$f":"fce","v":-1.446936443478854E-2},7.9999999999998295E-2,-3.2786571331245781E-3,-4.0983214164058097E-2,-1.2886954401080388E-3,3.1606131856188382]
[{"$f":"A531+Funkce!$B$5","v":22.399999999999803},{"$f":"fce","v":-1.7748021567913119E-2},7.9999999999998295E-2,-3.1421987339846427E-3,-3.927748417480887E-2,-1.5455296747924022E-3,3.1590676559440456]
[{"$f":"A532+Funkce!$B$5","v":22.479999999999801},{"$f":"fce","v":-2.0890220301897761E-2},7.9999999999998295E-2,-2.9867613682123088E-3,-3.7334517102654653E-2,-1.7906880788802748E-3,3.1572769678651653]
[{"$f":"A533+Funkce!$B$5","v":22.5599999999998},{"$f":"fce","v":-2.387698167011007E-2},7.9999999999998295E-2,-2.8134620002631498E-3,-3.5168275003290124E-2,-2.0226970136192888E-3,3.1552542708515459]
[{"$f":"A534+Funkce!$B$5","v":22.639999999999798},{"$f":"fce","v":-2.669044367037322E-2},7.9999999999998295E-2,-2.6235222861114293E-3,-3.2794028576393568E-2,-2.2401763850742672E-3,3.1530140944664717]
[{"$f":"A535+Funkce!$B$5","v":22.719999999999796},{"$f":"fce","v":-2.9313965956484649E-2},7.9999999999998295E-2,-2.4182601858010501E-3,-3.022825232251377E-2,-2.4418476839507619E-3,3.150572246782521]
[{"$f":"A536+Funkce!$B$5","v":22.799999999999795},{"$f":"fce","v":-3.1732226142285699E-2},7.9999999999998295E-2,-2.1990810308002567E-3,-2.7488512885003796E-2,-2.6265413326148103E-3,3.147945705449906]
[{"$f":"A537+Funkce!$B$5","v":22.879999999999793},{"$f":"fce","v":-3.3931307173085956E-2},7.9999999999998295E-2,-1.9674681054259527E-3,-2.4593351317824932E-2,-2.7932032980638546E-3,3.1451525021518423]
[{"$f":"A538+Funkce!$B$5","v":22.959999999999791},{"$f":"fce","v":-3.5898775278511909E-2},7.9999999999998295E-2,-1.7249728042233389E-3,-2.1562160052792195E-2,-2.9409009344498233E-3,3.1422116012173924]
[{"$f":"A539+Funkce!$B$5","v":23.03999999999979},{"$f":"fce","v":-3.7623748082735248E-2},7.9999999999998295E-2,-1.4732044294322663E-3,-1.8415055367903721E-2,-3.0688280237960454E-3,3.1391427731935964]
[{"$f":"A540+Funkce!$B$5","v":23.119999999999788},{"$f":"fce","v":-3.9096952512167514E-2},7.9999999999998295E-2,-1.2138196944909557E-3,-1.5172746181137269E-2,-3.1763089887529715E-3,3.1359664642048433]
[{"$f":"A541+Funkce!$B$5","v":23.199999999999786},{"$f":"fce","v":-4.031077220665847E-2},7.9999999999998295E-2,-9.4851200092960219E-4,-1.1856400011620281E-2,-3.2628022565697923E-3,3.1327036619482733]
[{"$f":"A542+Funkce!$B$5","v":23.279999999999784},{"$f":"fce","v":-4.1259284207588072E-2},7.9999999999998295E-2,-6.790005569909871E-4,-8.4875069623875192E-3,-3.3279027588866139E-3,3.1293757591893865]
[{"$f":"A543+Funkce!$B$5","v":23.359999999999783},{"$f":"fce","v":-4.1938284764579059E-2},7.9999999999998295E-2,-4.0701940685641813E-4,-5.0877425857053351E-3,-3.3713435574405097E-3,3.1260044156319458]
[{"$f":"A544+Funkce!$B$5","v":23.439999999999781},{"$f":"fce","v":-4.2345304171435477E-2},7.9999999999998295E-2,-1.3430643948030702E-4,-1.6788304935038735E-3,-3.3929965912939783E-3,3.122611419040652]
[{"$f":"A545+Funkce!$B$5","v":23.519999999999779},{"$f":"fce","v":-4.2479610610915784E-2},7.9999999999998295E-2,1.3740755427833068E-4,1.7175944284791701E-3,-3.3928725467020568E-3,3.1192185464939501]
[{"$f":"A546+Funkce!$B$5","v":23.599999999999778},{"$f":"fce","v":-4.2342203056637454E-2},7.9999999999998295E-2,4.064097082692314E-4,5.0801213533655009E-3,-3.3711198562001552E-3,3.1158474266377501]
[{"$f":"A547+Funkce!$B$5","v":23.679999999999776},{"$f":"fce","v":-4.1935793348368222E-2},7.9999999999998295E-2,6.710157246039572E-4,8.3876965575496436E-3,-3.3280228388852286E-3,3.1125194037988648]
[{"$f":"A548+Funkce!$B$5","v":23.759999999999774},{"$f":"fce","v":-4.1264777623764265E-2},7.9999999999998295E-2,9.2958026890044981E-4,1.1619753361255871E-2,-3.2639989991450537E-3,3.1092554047997196]
[{"$f":"A549+Funkce!$B$5","v":23.839999999999772},{"$f":"fce","v":-4.0335197354863815E-2},7.9999999999998295E-2,1.1805070539233631E-3,1.4756338174042352E-2,-3.179595506232103E-3,3.1060758092934875]
[{"$f":"A550+Funkce!$B$5","v":23.919999999999771},{"$f":"fce","v":-3.9154690300940452E-2},7.9999999999998295E-2,1.4222585506606308E-3,1.7778231883258264E-2,-3.0754848820487455E-3,3.1030003244114388]
[{"$f":"A551+Funkce!$B$5","v":23.999999999999769},{"$f":"fce","v":-3.7732431750279821E-2},7.9999999999998295E-2,1.6533652685706487E-3,2.066706585713355E-2,-2.9524599292794964E-3,3.1000478644821592]
[{"$f":"A552+Funkce!$B$5","v":24.079999999999767},{"$f":"fce","v":-3.6079066481709172E-2},7.9999999999998295E-2,1.8724345497833986E-3,2.3405431872292982E-2,-2.8114279365453378E-3,3.097236436545614]
[{"$f":"A553+Funkce!$B$5","v":24.159999999999766},{"$f":"fce","v":-3.4206631931925774E-2},7.9999999999998295E-2,2.0781588253991484E-3,2.597698531748991E-2,-2.6534042015380396E-3,3.0945830323440759]
[{"$f":"A554+Funkce!$B$5","v":24.239999999999764},{"$f":"fce","v":-3.2128473106526625E-2},7.9999999999998295E-2,2.2693232857061499E-3,2.8366541071327477E-2,-2.479504917093831E-3,3.0921035274269819]
[{"$f":"A555+Funkce!$B$5","v":24.319999999999762},{"$f":"fce","v":-2.9859149820820476E-2},7.9999999999998295E-2,2.4448129200754891E-3,3.0560161500944264E-2,-2.2909394688625695E-3,3.0898125879581193]
[{"$f":"A556+Funkce!$B$5","v":24.399999999999761},{"$f":"fce","v":-2.7414336900744986E-2},7.9999999999998295E-2,2.603618886499251E-3,3.2545236081241331E-2,-2.0890021965995842E-3,3.0877235857615197]
[{"$f":"A557+Funkce!$B$5","v":24.479999999999759},{"$f":"fce","v":-2.4810718014245736E-2},7.9999999999998295E-2,2.7448441751476739E-3,3.4310552189346658E-2,-1.8750636741337117E-3,3.0858485220873861]
[{"$f":"A558+Funkce!$B$5","v":24.559999999999757},{"$f":"fce","v":-2.2065873839098062E-2},7.9999999999998295E-2,2.8677085349495812E-3,3.5846356686870529E-2,-1.6505615657298265E-3,3.0841979605216565]
[{"$f":"A559+Funkce!$B$5","v":24.639999999999755},{"$f":"fce","v":-1.919816530414848E-2},7.9999999999998295E-2,2.971552636967946E-3,3.7144407962100119E-2,-1.4169911188531303E-3,3.0827809694028034]
[{"$f":"A560+Funkce!$B$5","v":24.719999999999754},{"$f":"fce","v":-1.6226612667180534E-2},7.9999999999998295E-2,3.055841453272758E-3,3.8198018165910286E-2,-1.1758953552435075E-3,3.0816050740475598]
[{"$f":"A561+Funkce!$B$5","v":24.799999999999752},{"$f":"fce","v":-1.3170771213907776E-2},7.9999999999998295E-2,3.1201668350172088E-3,3.9002085437715939E-2,-9.2885502371191397E-4,3.0806762190238479]
[{"$f":"A562+Funkce!$B$5","v":24.87999999999975},{"$f":"fce","v":-1.0050604378890568E-2},7.9999999999998295E-2,3.1642492785259628E-3,3.9553115981575376E-2,-6.7747837917019244E-4,3.0799987406446778]
[{"$f":"A563+Funkce!$B$5","v":24.959999999999749},{"$f":"fce","v":-6.8863551003646049E-3},7.9999999999998295E-2,3.1879388733509831E-3,3.9849235916888139E-2,-4.2339085309512004E-4,3.0795753497915825]
[{"$f":"A564+Funkce!$B$5","v":25.039999999999747},{"$f":"fce","v":-3.6984162270136218E-3},7.9999999999998295E-2,3.1912154312897733E-3,3.9890192891123014E-2,-1.682246809094952E-4,3.0794071251106732]
[{"$f":"A565+Funkce!$B$5","v":25.119999999999745},{"$f":"fce","v":-5.0720079572384854E-4},7.9999999999998295E-2,3.1741878006912284E-3,3.96773475086412E-2,8.6391448369739415E-5,3.0794935165590429]
[{"$f":"A566+Funkce!$B$5","v":25.199999999999743},{"$f":"fce","v":2.6669870049673798E-3},7.9999999999998295E-2,3.1370923751510823E-3,3.9213654689389366E-2,3.3884265540342642E-4,3.0798323592144463]
[{"$f":"A567+Funkce!$B$5","v":25.279999999999742},{"$f":"fce","v":5.8040793801184621E-3},7.9999999999998295E-2,3.0802908109031539E-3,3.8503635136290244E-2,5.8753798284559068E-4,3.080419897197292]
[{"$f":"A568+Funkce!$B$5","v":25.35999999999974},{"$f":"fce","v":8.884370191021616E-3},7.9999999999998295E-2,3.0042669719393296E-3,3.7553337149242423E-2,8.3092029415928479E-4,3.0812508174914512]
[{"$f":"A569+Funkce!$B$5","v":25.439999999999738},{"$f":"fce","v":1.1888637162960946E-2},7.9999999999998295E-2,2.9096231266471737E-3,3.6370289083090444E-2,1.06747589810274E-3,3.0823182933895539]
[{"$f":"A570+Funkce!$B$5","v":25.519999999999737},{"$f":"fce","v":1.4798260289608119E-2},7.9999999999998295E-2,2.7970754242639534E-3,3.496344280330016E-2,1.29574384013918E-3,3.083614037229693]
[{"$f":"A571+Funkce!$B$5","v":25.599999999999735},{"$f":"fce","v":1.7595335713872073E-2},7.9999999999998295E-2,2.6674486837924491E-3,3.3343108547406325E-2,1.5143248044614315E-3,3.0851283620341543]
[{"$f":"A572+Funkce!$B$5","v":25.679999999999733},{"$f":"fce","v":2.0262784397664522E-2},7.9999999999998295E-2,2.5216705321081043E-3,3.1520881651351973E-2,1.7218895730974492E-3,3.0868502516072516]
[{"$f":"A573+Funkce!$B$5","v":25.759999999999732},{"$f":"fce","v":2.2784454929772626E-2},7.9999999999998295E-2,2.3607649318521419E-3,2.9509561648152403E-2,1.9171869916558551E-3,3.0887674385989072]
[{"$f":"A574+Funkce!$B$5","v":25.83999999999973},{"$f":"fce","v":2.5145219861624768E-2},7.9999999999998295E-2,2.1858451432636532E-3,2.7323064290796246E-2,2.0990513946604829E-3,3.0908664899935676]
[{"$f":"A575+Funkce!$B$5","v":25.919999999999728},{"$f":"fce","v":2.7331065004888421E-2},7.9999999999998295E-2,1.9981061673969049E-3,2.4976327092461843E-2,2.2664094470869018E-3,3.0931328994406546]
[{"$f":"A576+Funkce!$B$5","v":25.999999999999726},{"$f":"fce","v":2.9329171172285326E-2},7.9999999999998295E-2,1.7988167211204047E-3,2.2485209014005539E-2,2.4182863626275907E-3,3.095551185803282]
[{"$f":"A577+Funkce!$B$5","v":26.079999999999725},{"$f":"fce","v":3.1127987893405731E-2},7.9999999999998295E-2,1.5893107969407357E-3,1.9866384961759621E-2,2.5538114633500337E-3,3.0981049972666321]
[{"$f":"A578+Funkce!$B$5","v":26.159999999999723},{"$f":"fce","v":3.2717298690346466E-2},{"$f":"A580-A579","v":7.9999999999998295E-2},{"$f":"B580-B579","v":1.3709788629696559E-3},{"$f":"D579/C579","v":1.7137235787121063E-2},{"$f":"0.5*C579*(B579+B580)","v":2.672223049746447E-3},3.1007772203163784]
[{"$f":"A579+Funkce!$B$5","v":26.239999999999721},{"$f":"fce","v":3.4088277553316122E-2},7.9999999999998295E-2,1.1452587602945041E-3,1.4315734503681607E-2,2.7728725546770109E-3,{"$f":"F580+G579","v":3.1035500928710555}]
[{"$f":"A580+Funkce!$B$5","v":26.31999999999972},{"$f":"fce","v":3.5233536313610626E-2},7.9999999999998295E-2,9.1362635656432045E-4,1.1420329457054249E-2,2.8552279593513619E-3,3.1064053208304068]
[{"$f":"A581+Funkce!$B$5","v":26.399999999999718},{"$f":"fce","v":3.6147162670174947E-2},7.9999999999998295E-2,6.7758601579803041E-4,8.4698251974755605E-3,2.9188764542458544E-3,3.1093241972846526]
[{"$f":"A582+Funkce!$B$5","v":26.479999999999716},{"$f":"fce","v":3.6824748685972977E-2},7.9999999999998295E-2,4.3866094522384408E-4,5.4832618152981681E-3,2.963526332686729E-3,3.1122877236173392]
[{"$f":"A583+Funkce!$B$5","v":26.559999999999715},{"$f":"fce","v":3.7263409631196821E-2},7.9999999999998295E-2,1.9838348038023895E-4,2.4797935047530398E-3,2.9890081097108919E-3,3.1152767317270502]
[{"$f":"A584+Funkce!$B$5","v":26.639999999999713},{"$f":"fce","v":3.746179311157706E-2},7.9999999999998295E-2,-4.1714630249843621E-5,-5.2143287812305642E-4,2.9952748637161069E-3,3.1182720065907663]
[{"$f":"A585+Funkce!$B$5","v":26.719999999999711},{"$f":"fce","v":3.7420078481327217E-2},7.9999999999998295E-2,-2.8011188014813448E-4,-3.5013985018517556E-3,2.9824018033001885E-3,3.1212544083940665]
[{"$f":"A586+Funkce!$B$5","v":26.799999999999709},{"$f":"fce","v":3.7139966601179082E-2},7.9999999999998295E-2,-5.1530653901032952E-4,-6.4413317376292561E-3,2.9505850665338504E-3,3.1242049934606002]
[{"$f":"A587+Funkce!$B$5","v":26.879999999999708},{"$f":"fce","v":3.6624660062168753E-2},7.9999999999998295E-2,-7.4582600722806341E-4,-9.3228250903509922E-3,2.9001397646843154E-3,3.1271051332252844]
[{"$f":"A588+Funkce!$B$5","v":26.959999999999706},{"$f":"fce","v":3.5878834054940689E-2},7.9999999999998295E-2,-9.7023593295333943E-4,-1.2127949161917001E-2,2.831497287077061E-3,3.1299366305123613]
[{"$f":"A589+Funkce!$B$5","v":27.039999999999704},{"$f":"fce","v":3.490859812198735E-2},7.9999999999998295E-2,-1.1871490359033343E-3,-1.4839362948791995E-2,2.745201888322796E-3,3.1326818324006842]
[{"$f":"A590+Funkce!$B$5","v":27.119999999999703},{"$f":"fce","v":3.3721449086084015E-2},7.9999999999998295E-2,-1.3952335842135691E-3,-1.7440419802669985E-2,2.6419065835181226E-3,3.1353237389842024]
[{"$f":"A591+Funkce!$B$5","v":27.199999999999701},{"$f":"fce","v":3.2326215501870446E-2},7.9999999999998295E-2,-1.5932214731150772E-3,-1.991526841393889E-2,2.5223683812249788E-3,3.1378461073654274]
[{"$f":"A592+Funkce!$B$5","v":27.279999999999699},{"$f":"fce","v":3.0732994028755369E-2},7.9999999999998295E-2,-1.7799158569939931E-3,-2.2248948212425387E-2,2.3874428880206189E-3,3.140233550253448]
[{"$f":"A593+Funkce!$B$5","v":27.359999999999697},{"$f":"fce","v":2.8953078171761376E-2},7.9999999999998295E-2,-1.9541982894504331E-3,-2.4427478618130934E-2,2.2380783221628451E-3,3.1424716285756107]
[{"$f":"A594+Funkce!$B$5","v":27.439999999999696},{"$f":"fce","v":2.6998879882310943E-2},7.9999999999998295E-2,-2.1150353293131856E-3,-2.6437941616415384E-2,2.0753089774123035E-3,3.1445469375530228]
[{"$f":"A595+Funkce!$B$5","v":27.519999999999694},{"$f":"fce","v":2.4883844552997757E-2},7.9999999999998295E-2,-2.2614845741342031E-3,-2.8268557176678141E-2,1.9002481812744121E-3,3.146447185734297]
[{"$f":"A596+Funkce!$B$5","v":27.599999999999692},{"$f":"fce","v":2.2622359978863554E-2},7.9999999999998295E-2,-2.3927000864941914E-3,-2.990875108117803E-2,1.7140807948492801E-3,3.1481612665291463]
[{"$f":"A597+Funkce!$B$5","v":27.679999999999691},{"$f":"fce","v":2.0229659892369363E-2},7.9999999999998295E-2,-2.50793718243323E-3,-3.1349214780416045E-2,1.5180553040921876E-3,3.1496793218332386]
[{"$f":"A598+Funkce!$B$5","v":27.759999999999689},{"$f":"fce","v":1.7721722709936133E-2},7.9999999999998295E-2,-2.6065565554959178E-3,-3.2581956943699669E-2,1.313475554575026E-3,3.1509927973878136]
[{"$f":"A599+Funkce!$B$5","v":27.839999999999687},{"$f":"fce","v":1.5115166154440215E-2},-27.839999999999687,-1.5115166154440215E-2,5.4292981876581843E-4,-0.21040311286980543,2.9405896845180082]